BEGIN:VCALENDAR
VERSION:2.0
PRODID:-//Link Centre - ECPv5.14.2.1//NONSGML v1.0//EN
CALSCALE:GREGORIAN
METHOD:PUBLISH
X-WR-CALNAME:Link Centre
X-ORIGINAL-URL:https://link-centre.org
X-WR-CALDESC:Events for Link Centre
REFRESH-INTERVAL;VALUE=DURATION:PT1H
X-Robots-Tag:noindex
X-PUBLISHED-TTL:PT1H
BEGIN:VTIMEZONE
TZID:America/Chicago
BEGIN:DAYLIGHT
TZOFFSETFROM:-0600
TZOFFSETTO:-0500
TZNAME:CDT
DTSTART:20180311T080000
END:DAYLIGHT
BEGIN:STANDARD
TZOFFSETFROM:-0500
TZOFFSETTO:-0600
TZNAME:CST
DTSTART:20181104T070000
END:STANDARD
END:VTIMEZONE
BEGIN:VEVENT
DTSTART;VALUE=DATE:20180324
DTEND;VALUE=DATE:20180325
DTSTAMP:20260421T021455
CREATED:20180309T200337Z
LAST-MODIFIED:20180309T202105Z
UID:1644-1521849600-1521935999@link-centre.org
SUMMARY:Actors' Bash Acting Workshop
DESCRIPTION:Actor’s Bash Acting Workshop\nOpen to the Public\nHosted by Dead Leaf Productions\n\nThe Actor’s Bash is a workshop in which we invite actors\, writers and directors to come together. We’ll group up and have a director grab some actors and perform a writer’s scene. We’ll switch up in various arrangements and do multiple scenes/groupings. This will give the directors a chance to sample the stories and potential actors for casting whatever may be their next film. Obviously it gives the writers and actors the same benefit weighing in on the directors. (Led by Writer/Director/Actor Glenn Payne) \nWe have a group critique after every scene in which we discuss what decisions worked well and which could have potentially been more successful. Held at the Link Centre in Tupelo. Ages 16 and up. $15 per person attending (cash only please – tickets available at the door the day of the event). \nYou can be a beginner or a seasoned veteran\, all are welcome!
URL:https://link-centre.org/event/actors-bash-acting-workshop/
ATTACH;FMTTYPE=image/jpeg:https://link-centre.org/wp-content/uploads/2018/03/27657388_2041868422496879_3532229421521700063_n.jpg
END:VEVENT
BEGIN:VEVENT
DTSTART;TZID=America/Chicago:20180324T193000
DTEND;TZID=America/Chicago:20180324T213000
DTSTAMP:20260421T021455
CREATED:20180309T200407Z
LAST-MODIFIED:20180309T203015Z
UID:1646-1521919800-1521927000@link-centre.org
SUMMARY:North Mississippi Symphony Orchestra
DESCRIPTION:Revolutionary: Beethoven and Ginastera – Andreas Klein\, Piano\nOpen to the Public\nHosted by North Mississippi Symphony Orchestra\n\nSat\, March 24\, 2018\n7:30 PM – 9:30 PM CDT  \n\nAlthough Beethoven and Ginastera were born centuries and continents apart\, both were caught up in the political upheaval of their respective times\, and both are distinguished by the revolutionary nature of their work. The NMSO performs Ginastera’s extraordinary orchestral showpiece where each instrument of the orchestra is featured. Dynamic pianist Andreas Klein performs the elegant and exciting Piano Concerto No. 4 of Beethoven. The works will be introduced by Maestri Byess and Klein in an entertaining discussion and exploration of the composers and their work.\n\n\n\n\n\n\n\nTickets: here  \n\nFacebook Event Page: here
URL:https://link-centre.org/event/north-mississippi-symphony-orchestra/
ATTACH;FMTTYPE=image/jpeg:https://link-centre.org/wp-content/uploads/2018/03/19665538_10155236371400269_8687058220997323648_n.jpg
END:VEVENT
END:VCALENDAR