BEGIN:VCALENDAR
VERSION:2.0
PRODID:-//Link Centre - ECPv5.14.2.1//NONSGML v1.0//EN
CALSCALE:GREGORIAN
METHOD:PUBLISH
X-WR-CALNAME:Link Centre
X-ORIGINAL-URL:https://link-centre.org
X-WR-CALDESC:Events for Link Centre
REFRESH-INTERVAL;VALUE=DURATION:PT1H
X-Robots-Tag:noindex
X-PUBLISHED-TTL:PT1H
BEGIN:VTIMEZONE
TZID:America/Chicago
BEGIN:DAYLIGHT
TZOFFSETFROM:-0600
TZOFFSETTO:-0500
TZNAME:CDT
DTSTART:20180311T080000
END:DAYLIGHT
BEGIN:STANDARD
TZOFFSETFROM:-0500
TZOFFSETTO:-0600
TZNAME:CST
DTSTART:20181104T070000
END:STANDARD
END:VTIMEZONE
BEGIN:VEVENT
DTSTART;TZID=America/Chicago:20180512T193000
DTEND;TZID=America/Chicago:20180512T211500
DTSTAMP:20260420T230039
CREATED:20180509T115112Z
LAST-MODIFIED:20180509T115209Z
UID:1771-1526153400-1526159700@link-centre.org
SUMMARY:West of Shake Rag presents the “May Day Mayday Show!”
DESCRIPTION:Mayday! Mayday! Out of control\, live comedy this Saturday\, May 12th at Link Centre as West of Shake Rag celebrates the oncoming summer! Tickets are just $5 so grab some friends and join West of Shake Rag with hosts Kristyn and Marley! \nWest of Shake Rag presents the “May Day Mayday Show!”
URL:https://link-centre.org/event/west-of-shake-rag-presents-the-may-day-mayday-show/
LOCATION:Black Box Theatre
ATTACH;FMTTYPE=image/jpeg:https://link-centre.org/wp-content/uploads/2018/05/32073957_1660385930681382_5657162941825286144_o.jpg
END:VEVENT
BEGIN:VEVENT
DTSTART;TZID=America/Chicago:20180512T194000
DTEND;TZID=America/Chicago:20180512T224000
DTSTAMP:20260420T230039
CREATED:20180509T120002Z
LAST-MODIFIED:20180509T120043Z
UID:1780-1526154000-1526164800@link-centre.org
SUMMARY:Secret Art Show
DESCRIPTION:Secret Art Show\n7:37 P.M.\, in the Reception Hall of the Link Centre! Join us after the Gum Tree Festival! We’d love to see ya!
URL:https://link-centre.org/event/secret-art-show-4/
ATTACH;FMTTYPE=image/jpeg:https://link-centre.org/wp-content/uploads/2018/05/31709830_1784601251582710_6415761059444948992_n.jpg
END:VEVENT
END:VCALENDAR