BEGIN:VCALENDAR
VERSION:2.0
PRODID:-//Link Centre - ECPv5.14.2.1//NONSGML v1.0//EN
CALSCALE:GREGORIAN
METHOD:PUBLISH
X-WR-CALNAME:Link Centre
X-ORIGINAL-URL:https://link-centre.org
X-WR-CALDESC:Events for Link Centre
REFRESH-INTERVAL;VALUE=DURATION:PT1H
X-Robots-Tag:noindex
X-PUBLISHED-TTL:PT1H
BEGIN:VTIMEZONE
TZID:America/Chicago
BEGIN:DAYLIGHT
TZOFFSETFROM:-0600
TZOFFSETTO:-0500
TZNAME:CDT
DTSTART:20180311T080000
END:DAYLIGHT
BEGIN:STANDARD
TZOFFSETFROM:-0500
TZOFFSETTO:-0600
TZNAME:CST
DTSTART:20181104T070000
END:STANDARD
END:VTIMEZONE
BEGIN:VEVENT
DTSTART;TZID=America/Chicago:20180521T183000
DTEND;TZID=America/Chicago:20180521T203000
DTSTAMP:20260420T230039
CREATED:20180520T150744Z
LAST-MODIFIED:20180520T151802Z
UID:1822-1526927400-1526934600@link-centre.org
SUMMARY:NSAI - Songwriter Get-Together
DESCRIPTION:Meetings consist of reviewing a lesson on the craft of songwriting or a music business related subject. We then host a feedback session where participants share a song with the group. Members should bring a song to share and lyric sheets for the group. \n– – – \nThis month we will meet a week early since so many people are out of town on the 28th.
URL:https://link-centre.org/event/nsai-songwriter-get-together/
LOCATION:Choir Room
ATTACH;FMTTYPE=image/jpeg:https://link-centre.org/wp-content/uploads/2018/05/1F4E7C9C-B841-4CDA-A8DC-51D34F0984DD.jpeg
END:VEVENT
END:VCALENDAR