BEGIN:VCALENDAR
VERSION:2.0
PRODID:-//Link Centre - ECPv5.14.2.1//NONSGML v1.0//EN
CALSCALE:GREGORIAN
METHOD:PUBLISH
X-WR-CALNAME:Link Centre
X-ORIGINAL-URL:https://link-centre.org
X-WR-CALDESC:Events for Link Centre
REFRESH-INTERVAL;VALUE=DURATION:PT1H
X-Robots-Tag:noindex
X-PUBLISHED-TTL:PT1H
BEGIN:VTIMEZONE
TZID:America/Chicago
BEGIN:DAYLIGHT
TZOFFSETFROM:-0600
TZOFFSETTO:-0500
TZNAME:CDT
DTSTART:20180311T080000
END:DAYLIGHT
BEGIN:STANDARD
TZOFFSETFROM:-0500
TZOFFSETTO:-0600
TZNAME:CST
DTSTART:20181104T070000
END:STANDARD
END:VTIMEZONE
BEGIN:VEVENT
DTSTART;TZID=America/Chicago:20180525T193000
DTEND;TZID=America/Chicago:20180525T204500
DTSTAMP:20260420T230039
CREATED:20180519T203230Z
LAST-MODIFIED:20180522T215136Z
UID:1812-1527276600-1527281100@link-centre.org
SUMMARY:Strangers Make You Smile Show
DESCRIPTION:Do you like Plays? Do you like Improv? Then join us this Friday night at the Link Centre for an improvised play about…….ok\, we have no idea what it’ll be about. That’s where you come in! We need your suggestion to get things started. After that we’ll make it all up on the spot! Maybe you’ll laugh\, maybe you’ll cry\, maybe you’ll eat so much free popcorn you’ll collapse in your seat. Either way you and your crew will have a blast. 😉 \nStarts at 7:30pm. Family friendly this round so bring the whole clan if you want. See you at the Black Box Theater! \n\nLet Stranger Are You Smiling make you laugh with a one time only one-act play based on your suggestion! \n\nStranger\, Are You Smiling is a two-person long-form improv team started in Tupelo\, Mississippi. Casey Dillard and Glenn Payne explore slice of life scenes based on audience suggestion. Laughter often follows.
URL:https://link-centre.org/event/strangers-make-you-smile-show/
LOCATION:Black Box Theatre
ATTACH;FMTTYPE=image/jpeg:https://link-centre.org/wp-content/uploads/2018/05/32588558_1643759019071985_420796556082413568_o.jpg
END:VEVENT
END:VCALENDAR