BEGIN:VCALENDAR
VERSION:2.0
PRODID:-//Link Centre - ECPv5.14.2.1//NONSGML v1.0//EN
CALSCALE:GREGORIAN
METHOD:PUBLISH
X-WR-CALNAME:Link Centre
X-ORIGINAL-URL:https://link-centre.org
X-WR-CALDESC:Events for Link Centre
REFRESH-INTERVAL;VALUE=DURATION:PT1H
X-Robots-Tag:noindex
X-PUBLISHED-TTL:PT1H
BEGIN:VTIMEZONE
TZID:America/Chicago
BEGIN:DAYLIGHT
TZOFFSETFROM:-0600
TZOFFSETTO:-0500
TZNAME:CDT
DTSTART:20180311T080000
END:DAYLIGHT
BEGIN:STANDARD
TZOFFSETFROM:-0500
TZOFFSETTO:-0600
TZNAME:CST
DTSTART:20181104T070000
END:STANDARD
END:VTIMEZONE
BEGIN:VEVENT
DTSTART;TZID=America/Chicago:20180621T193000
DTEND;TZID=America/Chicago:20180621T213000
DTSTAMP:20260420T212622
CREATED:20180521T141827Z
LAST-MODIFIED:20180614T134224Z
UID:1829-1529609400-1529616600@link-centre.org
SUMMARY:Monthly Music Mix - The Éilís Crean Trio
DESCRIPTION:The Éilís Crean Trio (Éilís Crean\, John Mock\, Becca Darling) \n\n7:30 p.m. in the Concert Hall.\nTickets are $12/advance\, $15/door\, $8/students. \n\nTraditional Irish music contains within it the DNA of a culture\, especially the older Irish music styles like the East Galway Irish Music Tradition. The notes that we use and the way we use those are more than mere transmitters of sound. They speak of traditions\, ways of thinking\, approaches to the world and an understanding of our place in it. And they give voice to the inchoate memories of those who came before us but have been rendered silent by time. \n\nEnjoy a sample of Traditional Irish music: \n \n \n \n 
URL:https://link-centre.org/event/monthly-music-mix-the-eilis-crean-trio/
LOCATION:Concert Hall
ATTACH;FMTTYPE=image/jpeg:https://link-centre.org/wp-content/uploads/2018/05/mmm-irish-music-poster.jpg
END:VEVENT
END:VCALENDAR