BEGIN:VCALENDAR
VERSION:2.0
PRODID:-//Link Centre - ECPv5.14.2.1//NONSGML v1.0//EN
CALSCALE:GREGORIAN
METHOD:PUBLISH
X-WR-CALNAME:Link Centre
X-ORIGINAL-URL:https://link-centre.org
X-WR-CALDESC:Events for Link Centre
REFRESH-INTERVAL;VALUE=DURATION:PT1H
X-Robots-Tag:noindex
X-PUBLISHED-TTL:PT1H
BEGIN:VTIMEZONE
TZID:America/Chicago
BEGIN:DAYLIGHT
TZOFFSETFROM:-0600
TZOFFSETTO:-0500
TZNAME:CDT
DTSTART:20180311T080000
END:DAYLIGHT
BEGIN:STANDARD
TZOFFSETFROM:-0500
TZOFFSETTO:-0600
TZNAME:CST
DTSTART:20181104T070000
END:STANDARD
END:VTIMEZONE
BEGIN:VEVENT
DTSTART;TZID=America/Chicago:20180804T180000
DTEND;TZID=America/Chicago:20180804T220000
DTSTAMP:20260420T181620
CREATED:20180724T163005Z
LAST-MODIFIED:20180724T163005Z
UID:2478-1533405600-1533420000@link-centre.org
SUMMARY:Thacker Mountain Radio Hour\, Pre-Show Dinner and then Performance
DESCRIPTION:Performance is FREE and Open to the Public! \nBefore the FREE live performance and recording of the Thacker Mountain Radio Hour\, enjoy a pre-show dinner Tex-Mex style in the Link Centre Reception Hall. Dinner tickets are $25 each and include one free beverage and seating in a reserved section of the Concert Hall for the show. \nDinner is 6:00-7:15PM. Tickets for dinner are available HERE. \nThis TMRH will feature Oxford Poet Derrick Harriell and music by Marcus “Mookie” Cartwright and Hannah Gill & The Hours. The show is hosted by Jim Dees and The Yalobushwhackers. This concert is FREE and open to the public. \nFollowing the radio recording\, Marcus Cartwright and Hannah Gill & The Hours will each perform additional brief sets. The Link Centre Concert Hall is located at 1800 West Main Street. \nFor more information call 662-690-4011. For tickets\, click HERE.
URL:https://link-centre.org/event/thacker-mountain-radio-hour-pre-show-dinner-and-then-performance/
ATTACH;FMTTYPE=image/jpeg:https://link-centre.org/wp-content/uploads/2018/07/Thacker-Mountain-Radio-Tupelo-poster-2018.jpg
END:VEVENT
END:VCALENDAR