BEGIN:VCALENDAR
VERSION:2.0
PRODID:-//Link Centre - ECPv5.14.2.1//NONSGML v1.0//EN
CALSCALE:GREGORIAN
METHOD:PUBLISH
X-WR-CALNAME:Link Centre
X-ORIGINAL-URL:https://link-centre.org
X-WR-CALDESC:Events for Link Centre
REFRESH-INTERVAL;VALUE=DURATION:PT1H
X-Robots-Tag:noindex
X-PUBLISHED-TTL:PT1H
BEGIN:VTIMEZONE
TZID:America/Chicago
BEGIN:DAYLIGHT
TZOFFSETFROM:-0600
TZOFFSETTO:-0500
TZNAME:CDT
DTSTART:20180311T080000
END:DAYLIGHT
BEGIN:STANDARD
TZOFFSETFROM:-0500
TZOFFSETTO:-0600
TZNAME:CST
DTSTART:20181104T070000
END:STANDARD
END:VTIMEZONE
BEGIN:VEVENT
DTSTART;TZID=America/Chicago:20180919T110000
DTEND;TZID=America/Chicago:20180919T120000
DTSTAMP:20260420T163011
CREATED:20180920T011505Z
LAST-MODIFIED:20180920T012326Z
UID:2589-1537354800-1537358400@link-centre.org
SUMMARY:Homeschooler Art Class
DESCRIPTION:Party in the Art Room with Amanda Koonlaba offers art classes for homeschoolers at the Link Centre in Tupelo. Classes meet three times a month. Semester tuition is $280. Enrollment costs $25. 10% discount for siblings. All ages are welcome! Sign up at the link for tickets and message Party in the Art Room with questions.
URL:https://link-centre.org/event/homeschooler-art-class/
ATTACH;FMTTYPE=image/jpeg:https://link-centre.org/wp-content/uploads/2018/09/41215775_1930862186979950_3725313860702306304_o.jpg
END:VEVENT
BEGIN:VEVENT
DTSTART;TZID=America/Chicago:20180919T180000
DTEND;TZID=America/Chicago:20180919T193000
DTSTAMP:20260420T163011
CREATED:20180920T000706Z
LAST-MODIFIED:20180920T000716Z
UID:2564-1537380000-1537385400@link-centre.org
SUMMARY:International Talk Like a Pirate Day
DESCRIPTION:Big news scallywags!! We’ll be joinin’ the festivities of Festival on the Field to better convert more landlubbers to our merry way of thinking! We be changin’ the event venue from Fairpark to Robins field. For the many reasons why check the pic\, and yes\, the bouncy castle merited extra consideration!
URL:https://link-centre.org/event/international-talk-like-a-pirate-day/
LOCATION:Robins Field
ATTACH;FMTTYPE=image/jpeg:https://link-centre.org/wp-content/uploads/2018/09/ITLAPD.jpg
END:VEVENT
END:VCALENDAR