BEGIN:VCALENDAR
VERSION:2.0
PRODID:-//Link Centre - ECPv5.14.2.1//NONSGML v1.0//EN
CALSCALE:GREGORIAN
METHOD:PUBLISH
X-WR-CALNAME:Link Centre
X-ORIGINAL-URL:https://link-centre.org
X-WR-CALDESC:Events for Link Centre
REFRESH-INTERVAL;VALUE=DURATION:PT1H
X-Robots-Tag:noindex
X-PUBLISHED-TTL:PT1H
BEGIN:VTIMEZONE
TZID:America/Chicago
BEGIN:DAYLIGHT
TZOFFSETFROM:-0600
TZOFFSETTO:-0500
TZNAME:CDT
DTSTART:20180311T080000
END:DAYLIGHT
BEGIN:STANDARD
TZOFFSETFROM:-0500
TZOFFSETTO:-0600
TZNAME:CST
DTSTART:20181104T070000
END:STANDARD
END:VTIMEZONE
BEGIN:VEVENT
DTSTART;TZID=America/Chicago:20181109T183000
DTEND;TZID=America/Chicago:20181109T203000
DTSTAMP:20260420T125957
CREATED:20181030T144132Z
LAST-MODIFIED:20181030T144216Z
UID:2819-1541788200-1541795400@link-centre.org
SUMMARY:Tupelo Arts Showcase
DESCRIPTION:Tupelo Arts Showcase\nTupelo Arts Showcase is a free event that allows the community to experience a diverse selection of art in a casual environment. \n 
URL:https://link-centre.org/event/tupelo-arts-showcase/
LOCATION:Concert Hall
ATTACH;FMTTYPE=image/jpeg:https://link-centre.org/wp-content/uploads/2018/10/44588008_10155459175061707_7445715661797457920_n.jpg
END:VEVENT
END:VCALENDAR