BEGIN:VCALENDAR
VERSION:2.0
PRODID:-//Link Centre - ECPv5.14.2.1//NONSGML v1.0//EN
CALSCALE:GREGORIAN
METHOD:PUBLISH
X-WR-CALNAME:Link Centre
X-ORIGINAL-URL:https://link-centre.org
X-WR-CALDESC:Events for Link Centre
REFRESH-INTERVAL;VALUE=DURATION:PT1H
X-Robots-Tag:noindex
X-PUBLISHED-TTL:PT1H
BEGIN:VTIMEZONE
TZID:America/Chicago
BEGIN:DAYLIGHT
TZOFFSETFROM:-0600
TZOFFSETTO:-0500
TZNAME:CDT
DTSTART:20180311T080000
END:DAYLIGHT
BEGIN:STANDARD
TZOFFSETFROM:-0500
TZOFFSETTO:-0600
TZNAME:CST
DTSTART:20181104T070000
END:STANDARD
END:VTIMEZONE
BEGIN:VEVENT
DTSTART;TZID=America/Chicago:20181117T100000
DTEND;TZID=America/Chicago:20181117T120000
DTSTAMP:20260420T130000
CREATED:20180920T015133Z
LAST-MODIFIED:20180920T015602Z
UID:2696-1542448800-1542456000@link-centre.org
SUMMARY:Adult Painting Class: Whimsical Landscapes
DESCRIPTION:This is a two-hour adults-only class where participants will create their own whimsical landscapes based on the work of contemporary artist Heather Galler. Take into consideration that the images in the promo video were created by third graders. (They look pretty great\, huh?) Students will use 18X24 in. medium-weight tagboard with acrylic paints and oil pastels to create their work. The cost is $28 per participant. This fee includes all supplies. Minimum participation of 10 adults is required for class to meet. Students in grades 10-12 are welcome to attend as an adult. Students in grades 6-9 are welcome to attend with a paying adult participant. \nBuy Tickets HERE.
URL:https://link-centre.org/event/adult-painting-class-whimsical-landscapes/
END:VEVENT
END:VCALENDAR