BEGIN:VCALENDAR
VERSION:2.0
PRODID:-//Link Centre - ECPv5.14.2.1//NONSGML v1.0//EN
CALSCALE:GREGORIAN
METHOD:PUBLISH
X-WR-CALNAME:Link Centre
X-ORIGINAL-URL:https://link-centre.org
X-WR-CALDESC:Events for Link Centre
REFRESH-INTERVAL;VALUE=DURATION:PT1H
X-Robots-Tag:noindex
X-PUBLISHED-TTL:PT1H
BEGIN:VTIMEZONE
TZID:America/Chicago
BEGIN:DAYLIGHT
TZOFFSETFROM:-0600
TZOFFSETTO:-0500
TZNAME:CDT
DTSTART:20180311T080000
END:DAYLIGHT
BEGIN:STANDARD
TZOFFSETFROM:-0500
TZOFFSETTO:-0600
TZNAME:CST
DTSTART:20181104T070000
END:STANDARD
END:VTIMEZONE
BEGIN:VEVENT
DTSTART;TZID=America/Chicago:20181201T100000
DTEND;TZID=America/Chicago:20181201T160000
DTSTAMP:20260420T111342
CREATED:20181025T173716Z
LAST-MODIFIED:20181110T034444Z
UID:2779-1543658400-1543680000@link-centre.org
SUMMARY:Holiday Market 2018
DESCRIPTION:Link Centre Holiday Market 2018\nFeaturing Community Entrepreneurs & Craftspeople\nBring the kids to meet Santa at the Holiday Market 2018 “Santa\, I Can Explain” Photo Opportunity! \nFREE Admisssion.\nFun & Goodies for Everyone!\n\nVENDOR INFO:\n\n\n\n\n\nLoad-in is at 8:30am on Saturday\, December 1; all vendors should be set up no later than 9:45am.\nEnter on the Douglas St. side of Link Centre; look for Vendor Load In signage\nTables will be provided by Link Centre. If you have any special needs or requests\, please note this information on your application in the space provided.\nYour signage should fit WITHIN your 4ft or 8ft table space.\nLink Centre Table additions: Your product may be accompanied with a small table tent no larger than 8×11.5. All items should be priced with tag or sticker\, and include applicable sales tax.\nVendors are responsible for sales transactions (cash and cards). If you need help with setting yourself up to receive credit/debit card payments\, let us know! Please bring appropriate cash/change.\nVendors must provide their own table covering and display elements (if applicable).\nProducts not listed on your application will not be allowed.\nVendors must monitor their own tables at all times.\nNo electricity access at tables.\nNo wall-hanging access.\nIf you have special needs not addressed here\, please send questions to linkcentretup@gmail.com.\n\n\n\nIMPORTANT: Accepted vendors will be notified by email on November 8th.  Once notified of acceptance\, you will receive instructions for how to either 1) pay online\, or 2) pay in person at the Link Centre Main Office. All vendors accepted to the Holiday Market must confirm participation and submit fees no later than November 15th. Thank you! \n\n\nIf you have photos of your products\, please email to: linkcentretup@gmail.com.
URL:https://link-centre.org/event/holiday-market-2018/
LOCATION:Reception Hall
ATTACH;FMTTYPE=image/jpeg:https://link-centre.org/wp-content/uploads/2018/10/2018-holiday-market-poster.jpg
END:VEVENT
END:VCALENDAR