BEGIN:VCALENDAR
VERSION:2.0
PRODID:-//Link Centre - ECPv5.14.2.1//NONSGML v1.0//EN
CALSCALE:GREGORIAN
METHOD:PUBLISH
X-WR-CALNAME:Link Centre
X-ORIGINAL-URL:https://link-centre.org
X-WR-CALDESC:Events for Link Centre
REFRESH-INTERVAL;VALUE=DURATION:PT1H
X-Robots-Tag:noindex
X-PUBLISHED-TTL:PT1H
BEGIN:VTIMEZONE
TZID:America/Chicago
BEGIN:DAYLIGHT
TZOFFSETFROM:-0600
TZOFFSETTO:-0500
TZNAME:CDT
DTSTART:20180311T080000
END:DAYLIGHT
BEGIN:STANDARD
TZOFFSETFROM:-0500
TZOFFSETTO:-0600
TZNAME:CST
DTSTART:20181104T070000
END:STANDARD
END:VTIMEZONE
BEGIN:VEVENT
DTSTART;TZID=America/Chicago:20181223T143000
DTEND;TZID=America/Chicago:20181223T163000
DTSTAMP:20260420T111342
CREATED:20180920T020809Z
LAST-MODIFIED:20181114T034054Z
UID:2711-1545575400-1545582600@link-centre.org
SUMMARY:Merry Madrigals Reunion
DESCRIPTION:Members of the first 30 years of Tupelo High School Madrigals reunite to perform madrigal classics and Singe Feaste favorites on December 23rd at 2:30pm. This concert will surely put you in the holiday spirit.\nJoin us for some Pastyme with Good Company. \nSunday\, December 23\, 2018\, 2:30pm\nLink Centre Concert Hall \nTickets:\n$12/advance\n$15/door\n$8/students \nBuy tickets HERE.
URL:https://link-centre.org/event/merry-madrigals-reunion/
LOCATION:Concert Hall
ATTACH;FMTTYPE=image/jpeg:https://link-centre.org/wp-content/uploads/2018/09/88031683-1257-4BE7-A12E-BA1D200EB168.jpeg
END:VEVENT
END:VCALENDAR