BEGIN:VCALENDAR
VERSION:2.0
PRODID:-//Link Centre - ECPv5.14.2.1//NONSGML v1.0//EN
CALSCALE:GREGORIAN
METHOD:PUBLISH
X-WR-CALNAME:Link Centre
X-ORIGINAL-URL:https://link-centre.org
X-WR-CALDESC:Events for Link Centre
REFRESH-INTERVAL;VALUE=DURATION:PT1H
X-Robots-Tag:noindex
X-PUBLISHED-TTL:PT1H
BEGIN:VTIMEZONE
TZID:America/Chicago
BEGIN:DAYLIGHT
TZOFFSETFROM:-0600
TZOFFSETTO:-0500
TZNAME:CDT
DTSTART:20190310T080000
END:DAYLIGHT
BEGIN:STANDARD
TZOFFSETFROM:-0500
TZOFFSETTO:-0600
TZNAME:CST
DTSTART:20191103T070000
END:STANDARD
END:VTIMEZONE
BEGIN:VEVENT
DTSTART;TZID=America/Chicago:20190316T110000
DTEND;TZID=America/Chicago:20190316T220000
DTSTAMP:20260420T061038
CREATED:20190119T043153Z
LAST-MODIFIED:20190313T194315Z
UID:3003-1552734000-1552773600@link-centre.org
SUMMARY:LINKFEST 2019
DESCRIPTION:Tickets on sale NOW! Get your tickets HERE!\n\nWanna get involved in LinkFest 2019? Help make this event a success! Come volunteer with us. Sign up here: Volunteer \n\nFREE Workshop schedule: \n \n \n\n\nCalling all local artists! \n\n\n\n\nLink Centre is hosting LinkFest! on March 16! The Daytime portion will be filled with fun events\, from performances to demos to workshops. We are also hosting an Artist Market from 11-4! Because space will be limited\, please apply for participation by emailing the following information to Leslie Criss at leslie.criss@journalinc.com by February 15:\n\nSubject line: \nLinkFest Artist Market Application \nBody must contain:\nArtist Name\nMedium of art\nPrice point range\n3-5 pictures of your work\n\nOur board will then make selections and respond promptly confirming participation. Tables will be 6′ and there will be a $25 participation fee.\n\nThanks so much for your interest\, and we hope to hear from you soon!\n\nLink Centre Board\n\n\n\nDiscover • Engage • Create – LINKFEST 2019
URL:https://link-centre.org/event/linkfest-2019/
LOCATION:Link Centre\, 1800 Main Street\, Tupelo\, MS\, 38801\, United States
ATTACH;FMTTYPE=image/jpeg:https://link-centre.org/wp-content/uploads/2019/01/linkfest-poster-2019-11x17-revised-feb-1.jpg
END:VEVENT
END:VCALENDAR