BEGIN:VCALENDAR
VERSION:2.0
PRODID:-//Link Centre - ECPv5.14.2.1//NONSGML v1.0//EN
CALSCALE:GREGORIAN
METHOD:PUBLISH
X-WR-CALNAME:Link Centre
X-ORIGINAL-URL:https://link-centre.org
X-WR-CALDESC:Events for Link Centre
REFRESH-INTERVAL;VALUE=DURATION:PT1H
X-Robots-Tag:noindex
X-PUBLISHED-TTL:PT1H
BEGIN:VTIMEZONE
TZID:America/Chicago
BEGIN:DAYLIGHT
TZOFFSETFROM:-0600
TZOFFSETTO:-0500
TZNAME:CDT
DTSTART:20190310T080000
END:DAYLIGHT
BEGIN:STANDARD
TZOFFSETFROM:-0500
TZOFFSETTO:-0600
TZNAME:CST
DTSTART:20191103T070000
END:STANDARD
END:VTIMEZONE
BEGIN:VEVENT
DTSTART;TZID=America/Chicago:20190323T090000
DTEND;TZID=America/Chicago:20190323T163000
DTSTAMP:20260420T061038
CREATED:20181017T121320Z
LAST-MODIFIED:20190328T204406Z
UID:2769-1553331600-1553358600@link-centre.org
SUMMARY:Singing with The King
DESCRIPTION:Congratulations to the Vocal and Songwriting Winners for this year’s Singing with The King™!\n \n\nGrade 5 & Under \n1. Eva Brooke Sweeney – Tupelo\, MS \n2. Skye Dodge – Tupelo\, MS \n3. Annelise Fagan – Tupelo\, MS \n \nPhoto:  Demi VanderWerff\, with Eva\, Skye\, and Annelise. \n\nGrade 6 – 8 \n1. Mary Chapel Whitehead – Tupelo\, MS \n2. Dalton Burney – Coffeeville\, MS \n3. Seairra Westmoreland – Mooreville\, MS \n \nPhoto:  Mary Chapel\, Dalton\, and Seairra. \n\nGrades 9 – 12 \n1. Valerie Robertson – Hamilton\, AL \n2. Rheagan Skelton – Potts Camp\, MS \n3. Cole Herrington – Tupelo\, MS \n \nPhoto:  Cole\, Rheagan\, and Valerie\, with Buzzy Orange. \n\nSongwriters \n1. Natalie Robertson – Hamilton\, AL \n2. Josie Beth Jones – Hamilton\, AL \n3. Coulter Clement – Water Valley\, MS \n \nPhoto:  Coulter\, Josie Beth\, and Natalie\, with Clay Mills. \n\nElvis Favorites \n1. Josie Beth Jones – Hamilton\, AL \n2. Coulter Clement – Water Valley\, MS \n3. Rheagan Skelton – Potts Camp\, MS \n4. Valarie Robertson – Hamilton\, AL \n5. Natalie Robertson – Hamilton\, AL \n \nPhoto:  Rheagan\, Coulter\, Josie Beth\, Natalie\, and Valerie. \n\nSee You Next Year!\n\n\n\nCongratulations to the Vocal and Songwriting Finalists for this year’s Singing with The King™!\n(All finalists will receive an email later today regarding details for the Saturday\, March 23rd Singing with The King™ workshops and competition.) \nFinalists\, in alphabetical order: \nAnne Frances Atkinson\, Vocal Finalist \nDalton Burney\, Vocal Finalist \nEmily Clampitt\, Vocal Finalist \nCoulter Clement\, Songwriter Finalist \nJosie Deaton\, Vocal Finalist \nSkye Dodge\, Vocal Finalist \nAnnelise Fagan\, Vocal Finalist \nCamryn Frazier\, Vocal Finalist \nBraxton Gibbs\, Songwriter Finalist \nSamantha Hennings\, Vocal Finalist \nSofia Herrero\, Vocal Finalist \nCole Herrington\, Vocal Finalist \nReese Horton\, Vocal Finalist \nAbbigall Johnson\, Vocal Finalist \nJosie Beth Jones\, Vocal Finalist \nAva Kilman\, Vocal Finalist \nNatalie Robertson\, Songwriter Finalist \nValerie Robertson\, Vocal Finalist \nThomas Roper\, Vocal Finalist \nAnna Sibley\, Vocal Finalist \nRheagan Skelton\, Vocal Finalist \nEva Brooke Sweeney\, Vocal Finalist \nKensy Brooke Wester\, Vocal Finalist \nSeairra Westmoreland\, Vocal Finalist \nMary Chapel Whitehead\, Vocal Finalist \n\nBuy Tickets HERE.\n\nSinging with The King™. \nTupelo\, MS\, the birthplace of Elvis Presley\, will host its first Annual Youth Singing Contest. Music education scholarships\, and many other exciting prizes\, will be awarded for each age grouping. \nSinging with The King™ is an open talent contest for all youth who would like to sing\, and potentially win\, music/voice scholarships to further their vocal talent endeavors. The three categories competing will be Grade 5 and under\, Grade 6 through 8\, and Grade 9 through 12. The winner of these categories will be chosen by voice capability. Participants may sing original or a previously released\, mainstream song. For original songs\, we will highlight and select an additional winner who will be chosen from all entries of originally written songs which are submitted. \nRegistration is FREE! \nAll participants are required to submit (upload) an audio track. You may sing your chosen song either with instrumentation\, a track\, or a capella. Your song may be either a song you have written or an already published song which you simply wish to sing to showcase your singing talent. Your song must be UNDER 4 minutes in length. You are permitted to enter one song only. Song vocals must be performed individually (no duo or groups). NOTE: If you submit a song which has been professionally recorded please know that in the finals you will be singing live\, and you will not be allowed to add various reverb or electronic voice enhancements during the final performance. \nAll Singers and/or Songwriters are welcomed. As mentioned above\, you may enter this contest singing any song of your choice. If you are an aspiring songwriter you may submit an original song. For you to win the songwriter portion of the contest\, your song entry must not be co-written with a published writer\, attached to a publisher\, or released by record label. NO PROFANE LANGUAGE ALLOWED. \nPlease upload your song entry below and click the button to designate whether you are entering as a singer or as a singer-songwriter. \nThe deadline for submissions will be Thursday\, Jan 31st 2019. Semi-Finalist will be chosen and listed on this site by Thursday\, Feb 21\, 2019. Semi-Finalist will then have three weeks to prepare for the finals which will be live at the Link Centre in Tupelo MS on Saturday\, March 23\, 2019. The winners from each category will be asked to perform their winning song they sang for the contest. We invite anyone and everyone to attend the Singing with The King™ event which will take place on March 23rd. The event is open to the general public. So invite everyone you know! \nTop professionals for voice instruction\, stage performance\, and stage presence\, as well as a hit songwriter and publisher from Nashville\, will provide morning workshop sessions for aspiring singers\, songwriters\, and entertainers. After lunch on the 23rd\, the Finalist will perform. The winner from each singing category will perform on the evening at Dancing with The King™ event which will be held at the Tupelo Furniture Market at 1879 Coley Rd. in Tupelo\, MS. \nFor more information\, please visit our website www.dancingwiththeking.com or call (662) 687-2188. \nElvis™\, Elvis Presley™ and The King™ are trademarks of ABG EPE IP LLC. Rights of Publicity and Persona Rights for Elvis Presley are used with permission of ABG EPEIP LLC. Photo © 2015 ABG EPE IP LLC. \n\nfacebook.com/dancingwiththeking \n\nSCHEDULE:\n9:00 – 9:45 – Workshop: Understanding\, Developing\, and Taking Care of Your Voice. \n9:55 – 10:40 – Workshop: Stage Performance and Stage Presence. \n10:50 – 11:35 – Workshop: Music Business – How to Make it in the Music Industry. (Record Labels\, Demos\, Songwriting\, Contracts.) \n11:45 – 12:50 – Lunch \n1:00 – 1:10 – Roy Turner\, President of the Tupelo Elvis Presley Fan Club\, will give a short presentation on Elvis Presley. \n1:15 – 4:15 – Singing Competition Finals \n4:30 – Awards Presentation \n\nParticipation Scholarship Awards\nMerit Scholarship\nSongwriting Scholarship\n\nWorkshop Bios:\n9:00 – 9:45 – Workshop: Understanding\, Developing\, and Taking Care of Your Voice. \nDemi VanderWerff\, mezzo-soprano\, is a graduate Summa Cum Laude from Jacksonville State University with a concentration in Vocal Studies. She works as an active performer\, director\, and teacher in the Southeastern region. Demi has a passion for working with young singers to foster a positive attitude and a solid musical understanding. Her favorite roles include Hansel (Hansel & Gretel)\, Musetta (La Boheme)\, Susanna (Le Nozze di Figaro)\, Kate (Madama Butterfly)\, Stephano (Romeo et Juliette)\, Mary (The Nativity According to St. Luke)\, Adele (Die Fledermaus)\, and Lucy (The Telephone). Demi has been engaged with Mississippi Opera\, University of Mobile Opera\, Ars Nova School of the Arts\, Jacksonville Opera Theater\, Opera Upper West\, The Huntsville Community Chorus\, Bloomington Cantata Project\, National Opera Association\, IU Opera\, Alabama A&M Choral Studies\, Druid City Opera\, and Fantasy Playhouse. Actively involved in the outreach of opera\, Ms. VanderWerff has directed children’s operas Gertrude McFuzz and Sid the Serpent\, and participated in Indiana University’s non-profit Round About Opera for Kids. In 2015\, Demi served as the intern for the OK Mozart Festival in Bartlesville\, Oklahoma. She is pursing her Masters of Music in Voice Performance at University of Mobile. \n\nDemi VanderWerff \n— \n9:55 – 10:40 – Workshop: Stage Performance and Stage Presence. \nBuzzy Orange has been a vocal/performance coach and Music Theory and guitar Instructor for over 55 years at the Buzzy Orange Studio on Music Row Nashville. He is the President and CEO of Roundabout Records and Roundabout Entertainment and Management Nashville. He has coached Artists for The Stage\, Screen\, Radio. and TV ” and has vastly improved artist careers coaching them on the importance of diction and stage presence. Some of his clients include Amy Grant\, Faith Hill\, Carrie Underwood. \n\nBuzzy Orange \n— \n10:50 – 11:35 – Workshop: Music Business – How to Make it in the Music Industry. (Record Labels\, Demos\, Songwriting\, Contracts.) \nOne of our Judges for Singing like the King in 2019 will be Clay Mills. Mississippi born\, Multi-Platinum\, Two Time Grammy-Nominated\, Hit Songwriter\, Record Producer and Publisher.  A Mississippi Delta native\, Clay Mills’ list of accolades includes Number #1 hits by Darius Rucker\, Diamond Rio\, and Kimberly Locke\, etc. Clay has had over 75 songs recorded by artists such as Lady Antebellum\, Tricia Yearwood\, Clay Walker\, Reba McEntire\, Easton Corbin\, Little Big Town\, and many others.  His most recent hits include Darius Rucker’s “History In The Making” and “I Got Nothing.” Mills has been involved in publishing and is engaged in educating and mentoring songwriters about all aspects of the music business. He has served on the NSAI Board\, and has lobbied Congress on behalf of creators and copyrights. He is a 16 time ASCAP award winner and a staff writer with MV2 Entertainment.  He is also a co-founder of www.SongTown.com\, a community of thousands of aspiring songwriters. Mills currently lives in Nashville\, TN. \n \nClay Mills \n\nBuy Tickets HERE.\nWorkshops: for participants in competition\, $20 each\, or only $55 discounted rate for all three Workshops. (Parents and Guardians may purchase an All-Access Day Pass for $30.) \nSinging Competition Spectator\, Adult: $15\nSinging Competition Spectator\, Youth (11-18):  $10\nSinging Competition Spectator\, Youth (10 and Younger):  FREE \n\nBuy Tickets HERE.
URL:https://link-centre.org/event/singing-with-the-king/
LOCATION:Concert Hall
ATTACH;FMTTYPE=image/png:https://link-centre.org/wp-content/uploads/2018/10/Screenshot-2018-11-26-12.20.45.png
END:VEVENT
END:VCALENDAR