BEGIN:VCALENDAR
VERSION:2.0
PRODID:-//Link Centre - ECPv5.14.2.1//NONSGML v1.0//EN
CALSCALE:GREGORIAN
METHOD:PUBLISH
X-WR-CALNAME:Link Centre
X-ORIGINAL-URL:https://link-centre.org
X-WR-CALDESC:Events for Link Centre
REFRESH-INTERVAL;VALUE=DURATION:PT1H
X-Robots-Tag:noindex
X-PUBLISHED-TTL:PT1H
BEGIN:VTIMEZONE
TZID:America/Chicago
BEGIN:DAYLIGHT
TZOFFSETFROM:-0600
TZOFFSETTO:-0500
TZNAME:CDT
DTSTART:20190310T080000
END:DAYLIGHT
BEGIN:STANDARD
TZOFFSETFROM:-0500
TZOFFSETTO:-0600
TZNAME:CST
DTSTART:20191103T070000
END:STANDARD
END:VTIMEZONE
BEGIN:VEVENT
DTSTART;TZID=America/Chicago:20190413T080000
DTEND;TZID=America/Chicago:20190413T170000
DTSTAMP:20260420T042717
CREATED:20190401T212557Z
LAST-MODIFIED:20190402T012829Z
UID:3182-1555142400-1555174800@link-centre.org
SUMMARY:Sacred Choral Traditions at THS Performing Arts Center
DESCRIPTION:With Steven Byess\, Conductor \nfeaturing: \nFirst Presbyterian Church Chancel Choir – Robert Taylor\, Director \nFirst United Methodist Church Chancel Choir – Beverly Clement McAlilly\, Director \nSaturday\, April 13\, 2019\n7:30PM\nTHS Performing Arts Center\, 4125 Cliff Gookin\, Tupelo\, MS
URL:https://link-centre.org/event/sacred-coral-traditions-at-ths-performing-arts-center/
LOCATION:THS Performing Arts Center\, 4125 Cliff Gookin\, Tupelo\, MS\, 38801\, United States
ATTACH;FMTTYPE=image/jpeg:https://link-centre.org/wp-content/uploads/2019/04/NMSO.jpg
END:VEVENT
BEGIN:VEVENT
DTSTART;TZID=America/Chicago:20190413T193000
DTEND;TZID=America/Chicago:20190413T210000
DTSTAMP:20260420T042717
CREATED:20190401T215332Z
LAST-MODIFIED:20190410T220227Z
UID:3196-1555183800-1555189200@link-centre.org
SUMMARY:West of Shake Rag presents 2 Fast 2 Furious!
DESCRIPTION:West of Shake Rag\n\nApril 13 @ 7:30 pm – 9:00 pm\n\n\n\nFamily friendly\, live comedy. Bring the whole clan!\nFREE popcorn! (Yeah\, you heard that right. FREE!!!)\nTickets $5 at the door.\nShow starts at 7:30PM!
URL:https://link-centre.org/event/west-of-shake-rag-8/
LOCATION:Black Box Theatre
ATTACH;FMTTYPE=image/jpeg:https://link-centre.org/wp-content/uploads/2019/04/WOSR-2F2F.jpg
END:VEVENT
END:VCALENDAR