BEGIN:VCALENDAR
VERSION:2.0
PRODID:-//Link Centre - ECPv5.14.2.1//NONSGML v1.0//EN
CALSCALE:GREGORIAN
METHOD:PUBLISH
X-WR-CALNAME:Link Centre
X-ORIGINAL-URL:https://link-centre.org
X-WR-CALDESC:Events for Link Centre
REFRESH-INTERVAL;VALUE=DURATION:PT1H
X-Robots-Tag:noindex
X-PUBLISHED-TTL:PT1H
BEGIN:VTIMEZONE
TZID:America/Chicago
BEGIN:DAYLIGHT
TZOFFSETFROM:-0600
TZOFFSETTO:-0500
TZNAME:CDT
DTSTART:20190310T080000
END:DAYLIGHT
BEGIN:STANDARD
TZOFFSETFROM:-0500
TZOFFSETTO:-0600
TZNAME:CST
DTSTART:20191103T070000
END:STANDARD
END:VTIMEZONE
BEGIN:VEVENT
DTSTART;TZID=America/Chicago:20190504T080000
DTEND;TZID=America/Chicago:20190504T120000
DTSTAMP:20260420T022617
CREATED:20190418T204507Z
LAST-MODIFIED:20190419T022334Z
UID:3322-1556956800-1556971200@link-centre.org
SUMMARY:Comcast Cares Day!
DESCRIPTION:Register to volunteer HERE via Facebook.\n\nVolunteers are needed for an outdoor beautification project at The Link Centre facility in Tupelo. The Link Centre is a nonprofit arts and social service organization that houses three performance spaces and dozens of other nonprofit organizations. \nProjects include landscaping\, clearing debris\, removing a tree and old metal shed for recycling\, building a picnic table\, and creating a garden in the courtyard. \nCheck-in will begin at 7:30am and the project will kick off at 8:00am. Please arrive a few minutes early to sign in and receive your Comcast Cares Day t-shirt. \n  \n\nRegister to volunteer HERE via Facebook.\nOr… \nPrint and fill out this form (⬇️) to participate:\n2019 FINAL CCD Waiver_English_Standard (1)
URL:https://link-centre.org/event/comcast-cares/
LOCATION:Link Centre\, 1800 Main Street\, Tupelo\, MS\, 38801\, United States
ATTACH;FMTTYPE=image/jpeg:https://link-centre.org/wp-content/uploads/2019/04/E46A5D52-B4BF-423D-BFDE-E9F230EBBBB0.jpeg
END:VEVENT
END:VCALENDAR