BEGIN:VCALENDAR
VERSION:2.0
PRODID:-//Link Centre - ECPv5.14.2.1//NONSGML v1.0//EN
CALSCALE:GREGORIAN
METHOD:PUBLISH
X-WR-CALNAME:Link Centre
X-ORIGINAL-URL:https://link-centre.org
X-WR-CALDESC:Events for Link Centre
REFRESH-INTERVAL;VALUE=DURATION:PT1H
X-Robots-Tag:noindex
X-PUBLISHED-TTL:PT1H
BEGIN:VTIMEZONE
TZID:America/Chicago
BEGIN:DAYLIGHT
TZOFFSETFROM:-0600
TZOFFSETTO:-0500
TZNAME:CDT
DTSTART:20190310T080000
END:DAYLIGHT
BEGIN:STANDARD
TZOFFSETFROM:-0500
TZOFFSETTO:-0600
TZNAME:CST
DTSTART:20191103T070000
END:STANDARD
END:VTIMEZONE
BEGIN:VEVENT
DTSTART;TZID=America/Chicago:20190521T140000
DTEND;TZID=America/Chicago:20190521T170000
DTSTAMP:20260420T022613
CREATED:20190401T213513Z
LAST-MODIFIED:20190401T213553Z
UID:3191-1558447200-1558458000@link-centre.org
SUMMARY:Rankin Elementary Graduation
DESCRIPTION:
URL:https://link-centre.org/event/rankin-elementary-graduation/
LOCATION:Concert Hall
END:VEVENT
END:VCALENDAR