BEGIN:VCALENDAR
VERSION:2.0
PRODID:-//Link Centre - ECPv5.14.2.1//NONSGML v1.0//EN
CALSCALE:GREGORIAN
METHOD:PUBLISH
X-WR-CALNAME:Link Centre
X-ORIGINAL-URL:https://link-centre.org
X-WR-CALDESC:Events for Link Centre
REFRESH-INTERVAL;VALUE=DURATION:PT1H
X-Robots-Tag:noindex
X-PUBLISHED-TTL:PT1H
BEGIN:VTIMEZONE
TZID:America/Chicago
BEGIN:DAYLIGHT
TZOFFSETFROM:-0600
TZOFFSETTO:-0500
TZNAME:CDT
DTSTART:20190310T080000
END:DAYLIGHT
BEGIN:STANDARD
TZOFFSETFROM:-0500
TZOFFSETTO:-0600
TZNAME:CST
DTSTART:20191103T070000
END:STANDARD
END:VTIMEZONE
BEGIN:VEVENT
DTSTART;TZID=America/Chicago:20190713T100000
DTEND;TZID=America/Chicago:20190713T113000
DTSTAMP:20260419T225016
CREATED:20190620T155545Z
LAST-MODIFIED:20190620T155545Z
UID:3522-1563012000-1563017400@link-centre.org
SUMMARY:MISSISSIPPI TODAY presents Marshall's Mississippi: Tupelo
DESCRIPTION:Marshall Ramsey has seen (and drawn) just about everything in Mississippi for more than 20 years\, and now he’s taking his pen and personality on the road. Join us for Marshall’s Mississippi\, a dynamic roadshow featuring live interviews\, interactive illustrations and intimate discourse from Mississippi Today Editor-at-Large Marshall Ramsey and his acclaimed guests: Mississippi Today senior political reporter Bobby Harrison\, Representative Steve Holland and former Lee County Justice Court Judge Sadie Holland. \nFans of the Pulitzer-nominated editorial cartoonist have never seen Marshall quite like this: part news magazine\, part personal odyssey and wholly Mississippi. \nHe’s spent two decades drawing some of the most powerful political players in the state\, which makes Marshall’s Mississippi look a little different. He doesn’t just see Mississippi politics like we do; he sees Mississippi through lively caricatures and vivid color landscapes that find the humor that we often need in seemingly dark and dire times. \nWe’re hosting conversations around Mississippi with local politicians\, community celebrities and larger-than-life personalities so that you can experience Marshall’s Mississippi. We’ll have panel discussions\, meet and greets with Marshall and behind-the-scenes looks into his drawing process. These Saturday morning programs will be full of lively discussions\, good company and\, of course\, plenty of laughs. \nLink Centre\nBlack Box Theatre\n10am-11:30am \n\nBuy Tickets HERE.
URL:https://link-centre.org/event/mississippi-today-presents-marshalls-mississippi-tupelo/
LOCATION:Black Box Theatre
ATTACH;FMTTYPE=image/jpeg:https://link-centre.org/wp-content/uploads/2019/06/64403008_2461516850840059_8690399181338050560_o.jpg
END:VEVENT
BEGIN:VEVENT
DTSTART;TZID=America/Chicago:20190713T193000
DTEND;TZID=America/Chicago:20190713T210000
DTSTAMP:20260419T225016
CREATED:20190401T220038Z
LAST-MODIFIED:20190401T220038Z
UID:3203-1563046200-1563051600@link-centre.org
SUMMARY:West of Shake Rag
DESCRIPTION:West of Shake Rag\n\nJuly 13 @ 7:30 pm – 9:00 pm\n\n\n\nFamily friendly\, live comedy. Bring the whole clan!\nFREE popcorn! (Yeah\, you heard that right. FREE!!!)\nTickets $5 at the door.\nShow starts at 7:30PM!
URL:https://link-centre.org/event/west-of-shake-rag-11/
LOCATION:Black Box Theatre
END:VEVENT
END:VCALENDAR