BEGIN:VCALENDAR
VERSION:2.0
PRODID:-//Link Centre - ECPv5.14.2.1//NONSGML v1.0//EN
CALSCALE:GREGORIAN
METHOD:PUBLISH
X-WR-CALNAME:Link Centre
X-ORIGINAL-URL:https://link-centre.org
X-WR-CALDESC:Events for Link Centre
REFRESH-INTERVAL;VALUE=DURATION:PT1H
X-Robots-Tag:noindex
X-PUBLISHED-TTL:PT1H
BEGIN:VTIMEZONE
TZID:America/Chicago
BEGIN:DAYLIGHT
TZOFFSETFROM:-0600
TZOFFSETTO:-0500
TZNAME:CDT
DTSTART:20190310T080000
END:DAYLIGHT
BEGIN:STANDARD
TZOFFSETFROM:-0500
TZOFFSETTO:-0600
TZNAME:CST
DTSTART:20191103T070000
END:STANDARD
END:VTIMEZONE
BEGIN:VEVENT
DTSTART;TZID=America/Chicago:20190720T193000
DTEND;TZID=America/Chicago:20190720T213000
DTSTAMP:20260419T225015
CREATED:20190508T174254Z
LAST-MODIFIED:20190708T153634Z
UID:3420-1563651000-1563658200@link-centre.org
SUMMARY:Monthly Music Mix - Teardrop City
DESCRIPTION:BUY TICKETS HERE!\n\nTeardrop City calls Oxford\, Mississippi home and formed in 2014. Rock n’ Roll\, Americana and Hill Country Blues veterans Tyler Keith (The Neckbones\, Preachers Kids\, The Apostles and Kid Twist)\, George Sheldon (Kenny Brown\, Blue Mountain\, Preacher’s Kids) Laurie Stirratt (Blue Mountain\, The Hilltops\, Preacher’s Kids\, Healthy White Baby)\, and Wallace Lester (Little Joe Ayres\, Reverend Wilkins) are a reassuring reminder that Rock n’ Roll never dies. Keith\, Sheldon and Stirratt share songwriting duties as well as lead vocals. Laced with killer harmonies\, the songs range in genre from garage rock\, high lonesome country\, blues and pop to straight up rock n’ roll. Over the last 25 years\, TDC members have played in numerous bands\, touring the world over. Teardrop City just wrapped up their debut record\, “It’s Later Than You Think”\, recorded at Dial Back Sound in Water Valley\, MS with engineer/producer Bronson Tew. \nMark Adamec will open for Teardrop City. \n— \nSaturday\, July 20th\, 2019\, 7:30PM \nLink Centre\nConcert Hall \nTickets: $12 in advance\, $15 at the door. \n\nBUY TICKETS HERE!
URL:https://link-centre.org/event/monthly-music-mix-teardrop-city-2/
LOCATION:Concert Hall
ATTACH;FMTTYPE=image/jpeg:https://link-centre.org/wp-content/uploads/2019/06/80890CD0-9ED2-458A-83AD-5552FD0052E9.jpeg
END:VEVENT
END:VCALENDAR