BEGIN:VCALENDAR
VERSION:2.0
PRODID:-//Link Centre - ECPv5.14.2.1//NONSGML v1.0//EN
CALSCALE:GREGORIAN
METHOD:PUBLISH
X-WR-CALNAME:Link Centre
X-ORIGINAL-URL:https://link-centre.org
X-WR-CALDESC:Events for Link Centre
REFRESH-INTERVAL;VALUE=DURATION:PT1H
X-Robots-Tag:noindex
X-PUBLISHED-TTL:PT1H
BEGIN:VTIMEZONE
TZID:America/Chicago
BEGIN:DAYLIGHT
TZOFFSETFROM:-0600
TZOFFSETTO:-0500
TZNAME:CDT
DTSTART:20190310T080000
END:DAYLIGHT
BEGIN:STANDARD
TZOFFSETFROM:-0500
TZOFFSETTO:-0600
TZNAME:CST
DTSTART:20191103T070000
END:STANDARD
END:VTIMEZONE
BEGIN:VEVENT
DTSTART;TZID=America/Chicago:20190809T193000
DTEND;TZID=America/Chicago:20190809T213000
DTSTAMP:20260419T210721
CREATED:20190620T160018Z
LAST-MODIFIED:20190620T160058Z
UID:3527-1565379000-1565386200@link-centre.org
SUMMARY:Southern Fried Chickie
DESCRIPTION:Saltillo native Christy McBrayer’s one woman comedy about a prodigal trip from Hollywood back home where she portrays 10 characters of family and friends accompanied by a live band. This is a fundraiser with proceeds going to the Dr. R.B Robison Educational Resource Center to provide educational tutoring and outside resources for Saltillo School Students. Eric Stogner\, Chance Moore and Kathy Brown will give musical accompaniment. \n\nSouthern Fried Chickie \na one-woman play written and performed\nby Christy McBrayer \nFriday\, August 9\, 2019 at 7:30pm \nLink Centre Concert Hall \nTickets:\n$25/advance\n$30/door \nproceeds to benefit the Dr. R.B Robison Educational Resource Center \n\nBuy Ticket HERE.
URL:https://link-centre.org/event/southern-fried-chickie/
LOCATION:Concert Hall
ATTACH;FMTTYPE=image/jpeg:https://link-centre.org/wp-content/uploads/2019/06/60167847_2189014647813254_8542879995456913408_o.jpg
END:VEVENT
END:VCALENDAR