BEGIN:VCALENDAR
VERSION:2.0
PRODID:-//Link Centre - ECPv5.14.2.1//NONSGML v1.0//EN
CALSCALE:GREGORIAN
METHOD:PUBLISH
X-WR-CALNAME:Link Centre
X-ORIGINAL-URL:https://link-centre.org
X-WR-CALDESC:Events for Link Centre
REFRESH-INTERVAL;VALUE=DURATION:PT1H
X-Robots-Tag:noindex
X-PUBLISHED-TTL:PT1H
BEGIN:VTIMEZONE
TZID:America/Chicago
BEGIN:DAYLIGHT
TZOFFSETFROM:-0600
TZOFFSETTO:-0500
TZNAME:CDT
DTSTART:20190310T080000
END:DAYLIGHT
BEGIN:STANDARD
TZOFFSETFROM:-0500
TZOFFSETTO:-0600
TZNAME:CST
DTSTART:20191103T070000
END:STANDARD
END:VTIMEZONE
BEGIN:VEVENT
DTSTART;TZID=America/Chicago:20191103T143000
DTEND;TZID=America/Chicago:20191103T163000
DTSTAMP:20260419T155233
CREATED:20190820T173219Z
LAST-MODIFIED:20190906T031008Z
UID:3736-1572791400-1572798600@link-centre.org
SUMMARY:Monthly Music Mix: Faith\, Truth\, Love
DESCRIPTION:Buy Tickets HERE!\n\nMonthly Music Mix: Faith\, Truth\, Love \nwith classical vocalists Paden Bell\, Victor McMillan\, Isaiah Traylor\, Demi Vanderwerff\, and with Dr. Jerri Lamar Kantack on piano. \nSunday\, November 3rd\, 2019\n2:30PM\nLink Centre Concert Hall \n\nBuy Tickets HERE!
URL:https://link-centre.org/event/monthly-music-mix-faith-truth-love/
LOCATION:Link Centre\, 1800 Main Street\, Tupelo\, MS\, 38801\, United States
ATTACH;FMTTYPE=image/jpeg:https://link-centre.org/wp-content/uploads/2019/08/MMM-November-2019-flier-Faith-Truth-Love-classical-vocals.jpg
END:VEVENT
END:VCALENDAR