BEGIN:VCALENDAR
VERSION:2.0
PRODID:-//Link Centre - ECPv5.14.2.1//NONSGML v1.0//EN
CALSCALE:GREGORIAN
METHOD:PUBLISH
X-WR-CALNAME:Link Centre
X-ORIGINAL-URL:https://link-centre.org
X-WR-CALDESC:Events for Link Centre
REFRESH-INTERVAL;VALUE=DURATION:PT1H
X-Robots-Tag:noindex
X-PUBLISHED-TTL:PT1H
BEGIN:VTIMEZONE
TZID:America/Chicago
BEGIN:DAYLIGHT
TZOFFSETFROM:-0600
TZOFFSETTO:-0500
TZNAME:CDT
DTSTART:20200308T080000
END:DAYLIGHT
BEGIN:STANDARD
TZOFFSETFROM:-0500
TZOFFSETTO:-0600
TZNAME:CST
DTSTART:20201101T070000
END:STANDARD
END:VTIMEZONE
BEGIN:VEVENT
DTSTART;TZID=America/Chicago:20200314T193000
DTEND;TZID=America/Chicago:20200314T213000
DTSTAMP:20260419T084406
CREATED:20200114T024349Z
LAST-MODIFIED:20200312T173302Z
UID:4250-1584214200-1584221400@link-centre.org
SUMMARY:LinkFest 2020 (An Evening with J.D. Souther) - Save the Date!
DESCRIPTION:LinkFest 2020\n\nBuy Tickets HERE!\n\nLinkFest: Discover\, Engage\, Create \nFriday\, March 13\, 2020 \n7pm The First Ever Tupelo Comedy Awards\nLink Centre Reception Hall\nTickets: $25\, includes tapas plates\, first drink\, and all the laughs you can handle \n\nSaturday\, March 14\, 2020 \n11am to 4pm Free workshops\, demos\, classes\, performances\, and more family-friendly fun.\nMultiple 45-minute sessions throughout Link Centre’s facility. Fun for all ages. \n7:30pm An Intimate Evening with JD Souther\, opening act Shannon McNally\nLink Centre Concert Hall\nDoors open at 7pm. \nTickets: $35\, $80 (VIP)\nAll seats are general admission within the price sections. \nVIP Tickets include seating in the first three rows of the house and a signed CD per couple. \nLinkFest is a fundraiser for Link Centre\, a 501(c)(3) multi-tenant nonprofit organization that fosters creative partnerships in the arts and social services for residents of northeast Mississippi. \n— \n \n \n \n— \nBuy Tickets HERE!
URL:https://link-centre.org/event/linkfest-2020/
LOCATION:Concert Hall
ATTACH;FMTTYPE=image/jpeg:https://link-centre.org/wp-content/uploads/2020/01/2020-linkfest-poster-11x17-1.jpg
END:VEVENT
END:VCALENDAR