BEGIN:VCALENDAR
VERSION:2.0
PRODID:-//Link Centre - ECPv5.14.2.1//NONSGML v1.0//EN
CALSCALE:GREGORIAN
METHOD:PUBLISH
X-WR-CALNAME:Link Centre
X-ORIGINAL-URL:https://link-centre.org
X-WR-CALDESC:Events for Link Centre
REFRESH-INTERVAL;VALUE=DURATION:PT1H
X-Robots-Tag:noindex
X-PUBLISHED-TTL:PT1H
BEGIN:VTIMEZONE
TZID:America/Chicago
BEGIN:DAYLIGHT
TZOFFSETFROM:-0600
TZOFFSETTO:-0500
TZNAME:CDT
DTSTART:20180311T080000
END:DAYLIGHT
BEGIN:STANDARD
TZOFFSETFROM:-0500
TZOFFSETTO:-0600
TZNAME:CST
DTSTART:20181104T070000
END:STANDARD
END:VTIMEZONE
BEGIN:VEVENT
DTSTART;TZID=America/Chicago:20180804T180000
DTEND;TZID=America/Chicago:20180804T220000
DTSTAMP:20260420T163012
CREATED:20180724T163005Z
LAST-MODIFIED:20180724T163005Z
UID:2478-1533405600-1533420000@link-centre.org
SUMMARY:Thacker Mountain Radio Hour\, Pre-Show Dinner and then Performance
DESCRIPTION:Performance is FREE and Open to the Public! \nBefore the FREE live performance and recording of the Thacker Mountain Radio Hour\, enjoy a pre-show dinner Tex-Mex style in the Link Centre Reception Hall. Dinner tickets are $25 each and include one free beverage and seating in a reserved section of the Concert Hall for the show. \nDinner is 6:00-7:15PM. Tickets for dinner are available HERE. \nThis TMRH will feature Oxford Poet Derrick Harriell and music by Marcus “Mookie” Cartwright and Hannah Gill & The Hours. The show is hosted by Jim Dees and The Yalobushwhackers. This concert is FREE and open to the public. \nFollowing the radio recording\, Marcus Cartwright and Hannah Gill & The Hours will each perform additional brief sets. The Link Centre Concert Hall is located at 1800 West Main Street. \nFor more information call 662-690-4011. For tickets\, click HERE.
URL:https://link-centre.org/event/thacker-mountain-radio-hour-pre-show-dinner-and-then-performance/
ATTACH;FMTTYPE=image/jpeg:https://link-centre.org/wp-content/uploads/2018/07/Thacker-Mountain-Radio-Tupelo-poster-2018.jpg
END:VEVENT
BEGIN:VEVENT
DTSTART;TZID=America/Chicago:20180811T100000
DTEND;TZID=America/Chicago:20180811T160000
DTSTAMP:20260420T163012
CREATED:20180724T162141Z
LAST-MODIFIED:20180726T011510Z
UID:2475-1533981600-1534003200@link-centre.org
SUMMARY:Live at the Link: Clay Mills\, The Story Behind His Hit Songs
DESCRIPTION:Clay Mills – Multi-Platinum\, Two-Time Grammy-Nominated\, Hit Songwriter\, Record Producer\, and Publisher – will perform his Stories Behind his Hit Songs in Tupelo\, MS\nSaturday\, August 11\, 2018\, at 10am.\nJoin us for Clay Mills at Live at the Link! \nMain Event: At 10AM\, enjoy Clay’s Story Behind his Hit Songs performance!\nBuy Tickets HERE. \nFollowing Clay’s performance\, we’ll have a short Q&A to answer your online question submissions. After a lunch break\, we’ll offer a Songwriting Mentoring Session with Clay for those who are interested. And we’ll wrap up the day with an opportunity for you to pitch your best song to Clay.\nSee website below for full details. \nAn incredible experience not to be missed! If you are a veteran songwriter\, new to songwriting\, or wish to become a recording artist – or if you simply love good music – come to Live at the Link to hear and learn about the craft of songwriting from Clay Mills. A hit song can change a career! \nLink Centre \, Concert Hall\, 1800 Main St Tupelo\, MS 38801\n$10 online or $15 at the door.\nTickets are for entry into any or all of the days activities. Each person will need a ticket to get through the door.\nBuy tickets HERE. \nFull Event Detail Here: http://www.link-centre.org/live-at-the-link/
URL:https://link-centre.org/event/clay-mills-live-at-the-link-the-story-behind-his-hit-songs/
LOCATION:Concert Hall
ATTACH;FMTTYPE=image/jpeg:https://link-centre.org/wp-content/uploads/2018/07/Clay-Flyer-5.jpg
ORGANIZER;CN="Jaydd%20Productions":MAILTO:contact@jayddmusic.com
END:VEVENT
BEGIN:VEVENT
DTSTART;TZID=America/Chicago:20180818T193000
DTEND;TZID=America/Chicago:20180818T213000
DTSTAMP:20260420T163012
CREATED:20180501T181237Z
LAST-MODIFIED:20180813T192357Z
UID:1731-1534620600-1534627800@link-centre.org
SUMMARY:Singer/songwriter showcase with Clint Jordan and Mississippi Chris Sharp
DESCRIPTION:A Mississippi Songwriter Showcase \n\nfeaturing Mississippi Chris Sharp and Clint Jordan\nwith opening act Luke Fisher \nLink Centre Concert Hall\n7:30pm\, Saturday\, August 18\, 2018 \n\nTickets: $12 in advance\, $15 at the door \nBuy Tickets HERE.
URL:https://link-centre.org/event/singer-songwriter-showcase-with-clint-jordan-and-mississippi-chris-sharp/
LOCATION:Concert Hall
ATTACH;FMTTYPE=image/jpeg:https://link-centre.org/wp-content/uploads/2018/05/mmm-ms-songwriters-poster.jpg
END:VEVENT
END:VCALENDAR