BEGIN:VCALENDAR
VERSION:2.0
PRODID:-//Link Centre - ECPv5.14.2.1//NONSGML v1.0//EN
CALSCALE:GREGORIAN
METHOD:PUBLISH
X-WR-CALNAME:Link Centre
X-ORIGINAL-URL:https://link-centre.org
X-WR-CALDESC:Events for Link Centre
REFRESH-INTERVAL;VALUE=DURATION:PT1H
X-Robots-Tag:noindex
X-PUBLISHED-TTL:PT1H
BEGIN:VTIMEZONE
TZID:America/Chicago
BEGIN:DAYLIGHT
TZOFFSETFROM:-0600
TZOFFSETTO:-0500
TZNAME:CDT
DTSTART:20180311T080000
END:DAYLIGHT
BEGIN:STANDARD
TZOFFSETFROM:-0500
TZOFFSETTO:-0600
TZNAME:CST
DTSTART:20181104T070000
END:STANDARD
END:VTIMEZONE
BEGIN:VEVENT
DTSTART;TZID=America/Chicago:20181005T073000
DTEND;TZID=America/Chicago:20181005T211500
DTSTAMP:20260420T130000
CREATED:20180920T005238Z
LAST-MODIFIED:20180920T005443Z
UID:2584-1538724600-1538774100@link-centre.org
SUMMARY:Actors Monologue Competition
DESCRIPTION:Actors Monologue Competition\nSponsored by Dead Leaf Productions and Link Centre\n\nJoin us for the first installment of our new Actors Monologue Competition. Not only will you get to witness some outstanding performances you’ll also be a judge for the evening! The audience votes for the 1st\, 2nd\, and 3rd place winners. 1st place will receive a cash prize. \nATTENTION ACTORS:\nPerformance entry is open to the public. $15 to sign up. 5 minutes maximum on monologues. Ages 18 & up. You can perform anything you’d like; original piece or from a play/movie. Judging is on performance only. The order will be random and announced at the event. Given this is our first event of this nature we’ll give actors from the Tupelo area first dibs on available spots and then we’ll open it up to out-of-town performers. Otherwise\, it’s first come first served on entries. Email deadleafproductions@gmail.com to submit. Let us know what town you’re from and we’ll send you instructions. Spots are limited so don’t wait! \nAUDIENCE MEMBERS:\nGeneral Admission is $6 per person. Don’t forget that’ll you’ll help pick the winner! Adult content is possible depending on what the performers select. \n*Due to limited spots there are no refunds on entry fees for cancellations. \n*For anyone interested in a children’s version\, we may look into a similar event for them after this one. \nSee you guys on Oct. 5th! 7:30pm.\nLink Centre\n1800 West Main Street\nTupelo\, MS 38801
URL:https://link-centre.org/event/actors-monologue-competition/
LOCATION:Black Box Theatre
ATTACH;FMTTYPE=image/jpeg:https://link-centre.org/wp-content/uploads/2018/09/41078767_2339829339367451_2435077445573935104_n.jpg
END:VEVENT
BEGIN:VEVENT
DTSTART;TZID=America/Chicago:20181006T140000
DTEND;TZID=America/Chicago:20181006T170000
DTSTAMP:20260420T130000
CREATED:20180920T022546Z
LAST-MODIFIED:20180920T023240Z
UID:2734-1538834400-1538845200@link-centre.org
SUMMARY:Tupelo PRIDE 2018
DESCRIPTION:PFLAG Tupelo is proud to sponsor Tupelo PRIDE 2018\, a celebration of the LBGTQ community in Tupelo and surrounding communities in northeast Mississippi. \n\nSign up to volunteer HERE.
URL:https://link-centre.org/event/tupelo-pride-2018/
LOCATION:Fair Park
ATTACH;FMTTYPE=image/jpeg:https://link-centre.org/wp-content/uploads/2018/09/41286819_10156620298471763_276758776202133504_n.jpg
END:VEVENT
BEGIN:VEVENT
DTSTART;TZID=America/Chicago:20181013T073000
DTEND;TZID=America/Chicago:20181013T210000
DTSTAMP:20260420T130000
CREATED:20180920T015937Z
LAST-MODIFIED:20180920T152943Z
UID:2703-1539415800-1539464400@link-centre.org
SUMMARY:West of Shake Rag - Halloween show with costume contest!
DESCRIPTION:Family friendly\, live comedy. Bring the whole clan!\nFREE popcorn! (Yeah\, you heard that right. FREE!!!)\nTickets $5 at the door.\nShow starts at 7:30PM!
URL:https://link-centre.org/event/west-of-shake-rag-2/
LOCATION:Black Box Theatre
END:VEVENT
BEGIN:VEVENT
DTSTART;TZID=America/Chicago:20181013T100000
DTEND;TZID=America/Chicago:20181013T120000
DTSTAMP:20260420T130000
CREATED:20180920T015447Z
LAST-MODIFIED:20180920T015447Z
UID:2698-1539424800-1539432000@link-centre.org
SUMMARY:Adult Painting Class: Van Gogh Irises
DESCRIPTION:This is a two-hour adults-only class where participants will create their own garden of irises similar inspired by Van Gogh’s work seen in the beginning of the promo video. Students will use 18X24 in. medium-weight tagboard with acrylic paints and oil pastels to create their work. The cost is $28 per participant. This fee includes all supplies. Minimum participation of 10 adults is required for class to meet. Students in grades 10-12 are welcome to attend as an adult. Students in grades 6-9 are welcome to attend with a paying adult participant. \nBuy Tickets HERE.
URL:https://link-centre.org/event/adult-painting-class-van-gogh-irises/
END:VEVENT
BEGIN:VEVENT
DTSTART;TZID=America/Chicago:20181013T100000
DTEND;TZID=America/Chicago:20181013T140000
DTSTAMP:20260420T130000
CREATED:20180920T014824Z
LAST-MODIFIED:20180920T014925Z
UID:2691-1539424800-1539439200@link-centre.org
SUMMARY:Robins Street Art Stroll
DESCRIPTION:Robins Street Art Stroll\nComing October 13\, 2018…
URL:https://link-centre.org/event/robins-street-art-stroll/
LOCATION:Robins Street
ATTACH;FMTTYPE=image/jpeg:https://link-centre.org/wp-content/uploads/2018/09/40904754_2213977365490423_7150758795629559808_o.jpg
END:VEVENT
BEGIN:VEVENT
DTSTART;TZID=America/Chicago:20181019T193000
DTEND;TZID=America/Chicago:20181019T220000
DTSTAMP:20260420T130000
CREATED:20180920T020350Z
LAST-MODIFIED:20180920T020350Z
UID:2706-1539977400-1539986400@link-centre.org
SUMMARY:Monthly Music Mix - Mark Adamec & Lyon Chadwick of the Sleeping Bulls
DESCRIPTION:
URL:https://link-centre.org/event/monthly-music-mix-mark-adamec-lyon-chadwick-of-the-sleeping-bulls/
LOCATION:Concert Hall
ATTACH;FMTTYPE=image/jpeg:https://link-centre.org/wp-content/uploads/2018/09/MMM-October-2018-Sleeping-Bulls.jpg
END:VEVENT
END:VCALENDAR