BEGIN:VCALENDAR
VERSION:2.0
PRODID:-//Link Centre - ECPv5.14.2.1//NONSGML v1.0//EN
CALSCALE:GREGORIAN
METHOD:PUBLISH
X-WR-CALNAME:Link Centre
X-ORIGINAL-URL:https://link-centre.org
X-WR-CALDESC:Events for Link Centre
REFRESH-INTERVAL;VALUE=DURATION:PT1H
X-Robots-Tag:noindex
X-PUBLISHED-TTL:PT1H
BEGIN:VTIMEZONE
TZID:America/Chicago
BEGIN:DAYLIGHT
TZOFFSETFROM:-0600
TZOFFSETTO:-0500
TZNAME:CDT
DTSTART:20190310T080000
END:DAYLIGHT
BEGIN:STANDARD
TZOFFSETFROM:-0500
TZOFFSETTO:-0600
TZNAME:CST
DTSTART:20191103T070000
END:STANDARD
END:VTIMEZONE
BEGIN:VEVENT
DTSTART;TZID=America/Chicago:20190108T183000
DTEND;TZID=America/Chicago:20190108T213000
DTSTAMP:20260420T075936
CREATED:20181224T231626Z
LAST-MODIFIED:20181224T231840Z
UID:2944-1546972200-1546983000@link-centre.org
SUMMARY:Elvis Birthday Showcase and Karaoke Contest
DESCRIPTION:Please come help us celebrate Elvis’ birthday while also supporting a good cause. We will have international Elvis experts along with talented locals on hand to perform. We will also have an Elvis Karaoke Contest. All proceeds will go back into Tupelo’s Homelessness Outreach Efforts! \n\n\n\n\n\n\n\n\n\nTuesday\, January 8\, 2019 at 6:30 PM – 9:30 PM CST\n\n\n\n\n\n\n\n\n\nHosted by Hannah Maharrey
URL:https://link-centre.org/event/elvis-birthday-showcase-and-karaoke-contest/
LOCATION:Black Box Theatre
ATTACH;FMTTYPE=image/jpeg:https://link-centre.org/wp-content/uploads/2018/12/Elvis.jpg
END:VEVENT
BEGIN:VEVENT
DTSTART;TZID=America/Chicago:20190111T193000
DTEND;TZID=America/Chicago:20190111T213000
DTSTAMP:20260420T075936
CREATED:20180501T181629Z
LAST-MODIFIED:20190103T213626Z
UID:1739-1547235000-1547242200@link-centre.org
SUMMARY:Annual Blues Café Round Robin\, featuring Reba Russell\, Sam Mosely\, Libby Rae Watson\, and Vinnie C.
DESCRIPTION:A January Tradition: A Blues Round Robin \nFriday\, January 11\, 2019 at 7:30pm \nFeatured Performers \nSam Mosley\nReba Russell\nVinny C.\nLibby Rae Watson \nLink Centre Reception Hall \nTickets:\n$12/advance\n$15/door \nBuy Tickets HERE.
URL:https://link-centre.org/event/annual-blues-cafe-round-robin-featuring-reba-russell/
LOCATION:Reception Hall
ATTACH;FMTTYPE=image/jpeg:https://link-centre.org/wp-content/uploads/2018/05/48411060_2097590823887271_2195405179396816896_o.jpg
END:VEVENT
BEGIN:VEVENT
DTSTART;TZID=America/Chicago:20190112T193000
DTEND;TZID=America/Chicago:20190112T210000
DTSTAMP:20260420T075936
CREATED:20180920T021341Z
LAST-MODIFIED:20180920T153055Z
UID:2725-1547321400-1547326800@link-centre.org
SUMMARY:West of Shake Rag
DESCRIPTION:Family friendly\, live comedy. Bring the whole clan!\nFREE popcorn! (Yeah\, you heard that right. FREE!!!)\nTickets $5 at the door.\nShow starts at 7:30PM!
URL:https://link-centre.org/event/west-of-shake-rag-5/
LOCATION:Black Box Theatre
END:VEVENT
BEGIN:VEVENT
DTSTART;TZID=America/Chicago:20190118T193000
DTEND;TZID=America/Chicago:20190118T203000
DTSTAMP:20260420T075936
CREATED:20190115T170901Z
LAST-MODIFIED:20190115T182103Z
UID:2989-1547839800-1547843400@link-centre.org
SUMMARY:Word Play - Writing Workshop
DESCRIPTION:Writing workshop held by Kelneccia Denman. \nIn the Word Play Studio.
URL:https://link-centre.org/event/word-play-writing-workshop/
LOCATION:Black Box Theatre
END:VEVENT
BEGIN:VEVENT
DTSTART;TZID=America/Chicago:20190119T190000
DTEND;TZID=America/Chicago:20190119T210000
DTSTAMP:20260420T075936
CREATED:20181029T183836Z
LAST-MODIFIED:20181029T183836Z
UID:2808-1547924400-1547931600@link-centre.org
SUMMARY:Sessions Open Mic
DESCRIPTION:Sessions Open Mic at Link Centre\nSessions Open Mic welcomes all spoken word artists\, singers\, musicians\, comedians…come out and show us your talent! It’s a great night out with friends\, for meeting new people\, or date night. Doors (and open mic list) opens at 6:30pm\, and show starts at 7pm. Admission: $7 for audience members\, $5 if you sign the list to share!
URL:https://link-centre.org/event/sessions-open-mic-3/
LOCATION:Black Box Theatre
ATTACH;FMTTYPE=image/jpeg:https://link-centre.org/wp-content/uploads/2018/10/open-mic-poster-2018-1.jpg
END:VEVENT
BEGIN:VEVENT
DTSTART;TZID=America/Chicago:20190126T133000
DTEND;TZID=America/Chicago:20190126T163000
DTSTAMP:20260420T075936
CREATED:20190103T214547Z
LAST-MODIFIED:20190103T214604Z
UID:2965-1548509400-1548520200@link-centre.org
SUMMARY:Intro to Oil Painting Workshop (January edition)
DESCRIPTION:Glenn Payne is happy to announce a new Intro to Oil Painting Workshop that he’ll be hosting on Jan 26th at the Link Centre. 1:30-4:30pm. $50. Supplies Included. More info on the class is available in the event description. Please feel free to invite/tag anyone you think might be interested. Spots are limited so make sure to register soon. \nRegister Here: https://deadleafproductions.bigcartel.com/prod…/oil-painting\nHappy New Year! #art #oilpainting #workshop \n\nAn introductory workshop in the basics of oil painting by Artist/Filmmaker Glenn Payne. The class will touch on drawing\, composition\, color harmony\, edge work\, and various other elements. Supplies provided. Limited spots available so make sure to sign up early. Minimum of 6 students required for the class to be held. \nSign up now to reserve your spot. Due to limited spots the class deposit is non refundable. 15 student max.\nhttps://deadleafproductions.bigcartel.com/product/oil-painting \nThe workshop will be held at Art Link Studios at the Link Centre in Tupelo\, MS on Jan 26th from 1:30pm-4:30pm. Make sure to wear clothes you aren’t worried about getting paint on. Ages 18 and up. \n\n“Glenn Payne is an award winning filmmaker and artist\, as well as an improvisational and film actor. He lives in Blue Springs\, Mississippi where he creates artwork and produces independent films with the abundance of local talent Mississippi has to offer. \nHe studied painting under Brent Funderburk and Jeffrey Haupt at Mississippi State University and crafted his improvisational acting skills with his troupe West of Shake Rag\, based in Tupelo\, MS\, as well as receiving training at Second City in Chicago\, IL. \nHe continues to exhibit his artwork through galleries\, art events\, and private collections around the world. The multiple art forms go hand in hand when one considers the concepts of composition\, dramatic lighting\, color\, and story telling. \nAlthough Payne continuously tries to find a balance between fine Art\, performance\, and film his overall goal is simply to continue to create.”
URL:https://link-centre.org/event/2965/
LOCATION:Link Centre\, 1800 Main Street\, Tupelo\, MS\, 38801\, United States
ATTACH;FMTTYPE=image/jpeg:https://link-centre.org/wp-content/uploads/2019/01/49079360_2207463789271995_4076431895326359552_n.jpg
END:VEVENT
END:VCALENDAR