BEGIN:VCALENDAR
VERSION:2.0
PRODID:-//Link Centre - ECPv5.14.2.1//NONSGML v1.0//EN
CALSCALE:GREGORIAN
METHOD:PUBLISH
X-WR-CALNAME:Link Centre
X-ORIGINAL-URL:https://link-centre.org
X-WR-CALDESC:Events for Link Centre
REFRESH-INTERVAL;VALUE=DURATION:PT1H
X-Robots-Tag:noindex
X-PUBLISHED-TTL:PT1H
BEGIN:VTIMEZONE
TZID:America/Chicago
BEGIN:DAYLIGHT
TZOFFSETFROM:-0600
TZOFFSETTO:-0500
TZNAME:CDT
DTSTART:20190310T080000
END:DAYLIGHT
BEGIN:STANDARD
TZOFFSETFROM:-0500
TZOFFSETTO:-0600
TZNAME:CST
DTSTART:20191103T070000
END:STANDARD
END:VTIMEZONE
BEGIN:VEVENT
DTSTART;TZID=America/Chicago:20190601T193000
DTEND;TZID=America/Chicago:20190601T213000
DTSTAMP:20260419T225015
CREATED:20190418T224346Z
LAST-MODIFIED:20190418T224346Z
UID:3343-1559417400-1559424600@link-centre.org
SUMMARY:Acting Workshop-May 25 & Monologue Competition-June 1
DESCRIPTION:***May 25 – 1:00pm-4:00pm (Actors Bash Workshop) \nThis special edition of the Actor’s Bash workshop will focus on performing monologues. We invite attending actors to select their own 1-3 minute monologue and have it memorized for the day of the workshop. The monologues can come from any source you choose. This event will precede our ACTORS MONOLOGUE COMPETITION\, which will be held one week later on June 1st. (Both events led by Writer/Director/Actor Glenn Payne) \nWe have a group critique after every monologue performance in which we discuss what decisions worked well and which could have potentially been more successful. From beginners to veterans\, all are welcome! It will be held at the Link Centre and the price is $15 per person attending (cash only please – tickets available at the door the day of the event). \n***JUNE 1 – 7:30pm (Actors Monologue Competition)*** \nJoin us for the second installment of our new Actors Monologue Competition. Not only will you get to witness some outstanding performances you’ll also be a judge for the evening! The audience votes for the 1st\, 2nd\, and 3rd place winners. 1st place will receive a cash prize. \nATTENTION ACTORS:\nPerformance entry is open to the public. $15 to sign up. 3 minute maximum on monologues. Ages 18 & up. You can perform anything you’d like; original piece or from a play/movie. Judging is on performance only. The order will be random and announced at the event. Email deadleafproductions@gmail.com to submit. Spots are limited so don’t wait! \nAUDIENCE MEMBERS:\nGeneral Admission is $7 per person. Don’t forget that’ll you’ll help pick the winner! Adult content is possible depending on what the performers select. \n*Due to limited spots there are no refunds on entry fees for cancellations. \n*For anyone interested in a children’s version\, we are planning a similar event for them after this one. \nSee you guys on June 1st at 7:30pm. Link Centre. 1800 West Main Street\, Tupelo\, MS 38801.
URL:https://link-centre.org/event/acting-workshop-may-25-monologue-competition-june-1-2/
LOCATION:Black Box Theatre
ATTACH;FMTTYPE=image/jpeg:https://link-centre.org/wp-content/uploads/2019/04/Glenn.jpg
END:VEVENT
BEGIN:VEVENT
DTSTART;TZID=America/Chicago:20190604T090000
DTEND;TZID=America/Chicago:20190606T230000
DTSTAMP:20260419T225015
CREATED:20190401T221027Z
LAST-MODIFIED:20190401T221357Z
UID:3216-1559638800-1559862000@link-centre.org
SUMMARY:Summer Art Camp - FAIRYTALES ART
DESCRIPTION:Summer Art Camps:\nThis year we are hosting four summer art camps. Each camp has a different theme. Cost is $100 per camp. We will provide all materials. Each camp has limited spots available. Pay half the fee now and half the last week of May to hold your spots! \nJUNE 4-6 FAIRYTALES ART 9-11 AM \nJUNE 11-13 ANIMALS ART 9-11 AM \nJUNE 18-20 STORYBOOK ART 9-11 AM \nJUNE 25-27 PHOTOGRAPHY (no camera required) 9-11 AM \nSign-Up HERE!
URL:https://link-centre.org/event/summer-art-camps/
LOCATION:Art Link Studios
ATTACH;FMTTYPE=image/jpeg:https://link-centre.org/wp-content/uploads/2019/04/Koonlaba.jpg
END:VEVENT
BEGIN:VEVENT
DTSTART;TZID=America/Chicago:20190608T193000
DTEND;TZID=America/Chicago:20190608T210000
DTSTAMP:20260419T225015
CREATED:20190401T215932Z
LAST-MODIFIED:20190401T215932Z
UID:3201-1560022200-1560027600@link-centre.org
SUMMARY:West of Shake Rag
DESCRIPTION:West of Shake Rag\n\nJune 8 @ 7:30 pm – 9:00 pm\n\n\n\nFamily friendly\, live comedy. Bring the whole clan!\nFREE popcorn! (Yeah\, you heard that right. FREE!!!)\nTickets $5 at the door.\nShow starts at 7:30PM!
URL:https://link-centre.org/event/west-of-shake-rag-10/
LOCATION:Black Box Theatre
END:VEVENT
BEGIN:VEVENT
DTSTART;TZID=America/Chicago:20190611T090000
DTEND;TZID=America/Chicago:20190613T110000
DTSTAMP:20260419T225015
CREATED:20190401T221311Z
LAST-MODIFIED:20190401T221420Z
UID:3220-1560243600-1560423600@link-centre.org
SUMMARY:Summer Art Camp - ANIMALS ART
DESCRIPTION:Summer Art Camps:\nThis year we are hosting four summer art camps. Each camp has a different theme. Cost is $100 per camp. We will provide all materials. Each camp has limited spots available. Pay half the fee now and half the last week of May to hold your spots! \nJUNE 4-6 FAIRYTALES ART 9-11 AM \nJUNE 11-13 ANIMALS ART 9-11 AM \nJUNE 18-20 STORYBOOK ART 9-11 AM \nJUNE 25-27 PHOTOGRAPHY (no camera required) 9-11 AM \nSign-Up HERE!
URL:https://link-centre.org/event/summer-art-camps-2/
LOCATION:Art Link Studios
ATTACH;FMTTYPE=image/jpeg:https://link-centre.org/wp-content/uploads/2019/04/Koonlaba.jpg
END:VEVENT
BEGIN:VEVENT
DTSTART;TZID=America/Chicago:20190614T073000
DTEND;TZID=America/Chicago:20190614T213000
DTSTAMP:20260419T225015
CREATED:20190401T195130Z
LAST-MODIFIED:20190425T222033Z
UID:3165-1560497400-1560547800@link-centre.org
SUMMARY:Monthly Music Mix - na Skylark
DESCRIPTION:“na Skylark\,” which simply means “the Skylark” in Irish\, is a trio dedicated to playing the traditional music of Ireland\, Scotland\, England\, Wales\, and Brittany on Ireland’s national instruments: the Irish harp and the Irish uilleann (“elbow”) pipes. na Skylark weaves these instruments and others – including the Appalachian mountain dulcimer\, the Irish fiddle\, Irish flutes and whistles\, vocals\, guitar\, and various percussion – into a tapestry of sound and feeling that’s truly unique. na Skylark is available for concerts\, weddings\, receptions\, and other performances both formal and informal. Harpist and leader Lorinda Jones is a board-certified music therapist and music educator\, and is well-known for her ability to tailor a memorable performance for every audience. na Skylark also offers a multimedia “Celtic Midwinter” program that’s perfect for warming a cold solstice night\, and na Skylark members are available for workshops and teaching sessions. na Skylark is listed with the Kentucky Arts Council (http://artistdirectory.ky.gov/Pages/PerformingArtistPage.aspx?ArtistID=92); the trio’s members are Lorinda Jones\, Cathy Wilde\, and Jannell Canerday. \n \nSaturday\, June 14\, 2019\, 7:30PM \nLink Centre\nConcert Hall \nTickets: $15 in advance\, $18 at the door.
URL:https://link-centre.org/event/na-skylark/
LOCATION:Concert Hall
ATTACH;FMTTYPE=image/jpeg:https://link-centre.org/wp-content/uploads/2019/04/MMM-June-2019-Na-Skylark.jpg
END:VEVENT
BEGIN:VEVENT
DTSTART;TZID=America/Chicago:20190618T090000
DTEND;TZID=America/Chicago:20190620T110000
DTSTAMP:20260419T225015
CREATED:20190620T162041Z
LAST-MODIFIED:20190620T162041Z
UID:3546-1560848400-1561028400@link-centre.org
SUMMARY:Storybooks Art Camp
DESCRIPTION:Storybook Art June 18\, 19 from 9:00-11:00 am \nCost is $100 per camp. We will provide all materials. Each camp has limited spots available. Pay half the fee now and half the last week of May to hold your spots! \nStorybooks and Projects Include:\n1. Pete the Cat: I Love My White Shoes- monoprints of shoes (the way Andy Warhol did it!)\, printmaking with the bottoms of shoes\, observational drawings of shoes\n2. Goodnight Tupelo- Hound Dog portraits (with watercolors)\n3. The Umbrella Queen (A Thai Storybook)- create a Thai elephant on a background of umbrellas (using mixed media to include authentic blue fabrics dyed in Thailand) \nThursday is dress up day. Teachers and students can dress like a character from their favorite storybook!
URL:https://link-centre.org/event/storybooks-art-camp/
LOCATION:Art Link Studios
ATTACH;FMTTYPE=image/jpeg:https://link-centre.org/wp-content/uploads/2019/06/58113528_2246988245367341_3835544879253946368_n.jpg
END:VEVENT
BEGIN:VEVENT
DTSTART;TZID=America/Chicago:20190619T083000
DTEND;TZID=America/Chicago:20190621T120000
DTSTAMP:20260419T225015
CREATED:20190416T133505Z
LAST-MODIFIED:20190514T120402Z
UID:3313-1560933000-1561118400@link-centre.org
SUMMARY:Rising Star Summer Camp 2019 - Pro Singing\, Theatre\, & Film
DESCRIPTION:Buy Tickets HERE.\n\nRising Star Summer Camp 2019 – Pro Singing\, Theatre\, & Film \nJune 19th-21st\, 8:30am – 12:00pm daily. \nRising Star Summer Camp is a 3 day camp for two groups: Grades 1-6\, and Grades 7-12. In camp we will focus on singing technique\, and both theatre and film acting techniques. The instructors are Demi Vanderwerff and Maddie’s Ludt. \nFor more information\, please contact Mersaidee@mac.com. \nLink Centre\n1800 West Main\nTupelo\, MS 38801 \n\nDemi VanderWerff\nDemi VanderWerff\, mezzo-soprano\, is a graduate Summa Cum Laude from Jacksonville State University with a concentration in Vocal Studies. She works as an active performer\, director\, and teacher in the Southeastern region. Demi has a passion for working with young singers to foster a positive attitude and a solid musical understanding. Her favorite roles include Hansel (Hansel & Gretel)\, Musetta (La Boheme)\, Susanna (Le Nozze di Figaro)\, Kate (Madama Butterfly)\, Stephano (Romeo et Juliette)\, Mary (The Nativity According to St. Luke)\, Adele (Die Fledermaus)\, and Lucy (The Telephone). Demi has been engaged with Mississippi Opera\, University of Mobile Opera\, Ars Nova School of the Arts\, Jacksonville Opera Theater\, Opera Upper West\, The Huntsville Community Chorus\, Bloomington Cantata Project\, National Opera Association\, IU Opera\, Alabama A&M Choral Studies\, Druid City Opera\, and Fantasy Playhouse. Actively involved in the outreach of opera\, Ms. VanderWerff has directed children’s operas Gertrude McFuzz and Sid the Serpent\, and participated in Indiana University’s non-profit Round About Opera for Kids. In 2015\, Demi served as the intern for the OK Mozart Festival in Bartlesville\, Oklahoma. She is pursuing her Masters of Music in Voice Performance at University of Mobile. \n \n  \n\nMaddie Ludt\n\n\nMaddie Ludt has over 20 years acting experience\, which officially began as a munchkin in the 1996 Tupelo Community Theatre production of The Wizard of Oz\, and unofficially began earlier with countless displays of public drama\, the most memorable being an applauded performance at a departure gate of the Memphis airport around age five. Maddie’s acting credits include numerous productions\, spanning youth and adulthood\, with Tupelo High School\, Pied Piper\, and TCT (most recently as Ellen Roark in A Time To Kill). You can also find Maddie in several short films and in the feature film Driven. In addition to her acting credits\, Maddie has assisted with local theatre camps and has served as director and assistant director for productions with TCT\, Pied Piper\, and Saltillo Performing Arts. \n\n\n\n\n\n\nBuy Tickets HERE.
URL:https://link-centre.org/event/rising-star-summer-camp-2019-pro-singing-theatre-film/
LOCATION:Link Centre\, 1800 Main Street\, Tupelo\, MS\, 38801\, United States
ATTACH;FMTTYPE=image/jpeg:https://link-centre.org/wp-content/uploads/2019/04/Rising-Star-Final-Design.jpg
ORGANIZER;CN="Jaydd%20Productions":MAILTO:contact@jayddmusic.com
END:VEVENT
BEGIN:VEVENT
DTSTART;TZID=America/Chicago:20190620T193000
DTEND;TZID=America/Chicago:20190620T213000
DTSTAMP:20260419T225015
CREATED:20190401T200341Z
LAST-MODIFIED:20190401T205415Z
UID:3174-1561059000-1561066200@link-centre.org
SUMMARY:Monthly Music Mix - Teardrop City
DESCRIPTION:Teardrop City is a rock n roll band from Oxford\, Ms. We love real country\, blues\, and all kinds of rock n roll. We’ve got a record called “It’s Later Than You Think”. \nFriday\, July 20\, 2019\, 7:30PM \nLink Centre\nConcert Hall \nTickets: $15 in advance\, $18 at the door.
URL:https://link-centre.org/event/monthly-music-mix-teardrop-city/
LOCATION:Concert Hall
ATTACH;FMTTYPE=image/jpeg:https://link-centre.org/wp-content/uploads/2019/04/Teardrop-City.jpg
END:VEVENT
BEGIN:VEVENT
DTSTART;TZID=America/Chicago:20190625T090000
DTEND;TZID=America/Chicago:20190627T110000
DTSTAMP:20260419T225015
CREATED:20190620T162358Z
LAST-MODIFIED:20190620T162358Z
UID:3549-1561453200-1561633200@link-centre.org
SUMMARY:Photography Camp
DESCRIPTION:Photography Art Camp\nJune 25\, 26\, 27 9:00 am-11:00 am \nTaught by guest artist Jenn Hudson of Theia Mingo Photography \nCost is $100 per student per camp. We provide all materials and supplies. \nNO CAMERA REQUIRED \nKiddos will learn about basic photography composition\, some photography history\, and create photographs from different cameras. \nDue to the nature of film photography\, we will mail photographs that are not developed by the end of camp.
URL:https://link-centre.org/event/photography-camp/
LOCATION:Art Link Studios
ATTACH;FMTTYPE=image/jpeg:https://link-centre.org/wp-content/uploads/2019/06/57936004_2246629195403246_5612410752695533568_n.jpg
END:VEVENT
BEGIN:VEVENT
DTSTART;TZID=America/Chicago:20190629T193000
DTEND;TZID=America/Chicago:20190629T213000
DTSTAMP:20260419T225015
CREATED:20190618T170358Z
LAST-MODIFIED:20190620T155157Z
UID:3503-1561836600-1561843800@link-centre.org
SUMMARY:Sessions Open Mic
DESCRIPTION:Sessions Open Mic welcomes all spoken word artists\, singers\, musicians\, comedians…come out and show us your talent! It’s a great night out with friends\, for meeting new people\, or date night. Doors (and open mic list) opens at 7pm\, and show starts at 7:30pm. Admission: $7 at the door.
URL:https://link-centre.org/event/sessions-open-mic-7/
LOCATION:Black Box Theatre
ATTACH;FMTTYPE=image/jpeg:https://link-centre.org/wp-content/uploads/2018/10/open-mic-fb-ad-1920-x-1080.jpg
END:VEVENT
END:VCALENDAR