BEGIN:VCALENDAR
VERSION:2.0
PRODID:-//Link Centre - ECPv5.14.2.1//NONSGML v1.0//EN
CALSCALE:GREGORIAN
METHOD:PUBLISH
X-WR-CALNAME:Link Centre
X-ORIGINAL-URL:https://link-centre.org
X-WR-CALDESC:Events for Link Centre
REFRESH-INTERVAL;VALUE=DURATION:PT1H
X-Robots-Tag:noindex
X-PUBLISHED-TTL:PT1H
BEGIN:VTIMEZONE
TZID:America/Chicago
BEGIN:DAYLIGHT
TZOFFSETFROM:-0600
TZOFFSETTO:-0500
TZNAME:CDT
DTSTART:20190310T080000
END:DAYLIGHT
BEGIN:STANDARD
TZOFFSETFROM:-0500
TZOFFSETTO:-0600
TZNAME:CST
DTSTART:20191103T070000
END:STANDARD
END:VTIMEZONE
BEGIN:VEVENT
DTSTART;TZID=America/Chicago:20190803T180000
DTEND;TZID=America/Chicago:20190803T223000
DTSTAMP:20260419T191739
CREATED:20190401T213924Z
LAST-MODIFIED:20190730T142726Z
UID:3193-1564855200-1564871400@link-centre.org
SUMMARY:Thacker Mountain Radio Hour
DESCRIPTION:Buy Tickets HERE!\n\nThacker Mountain Radio Hour\nBefore the FREE live performance and recording of the Thacker Mountain Radio Hour\, enjoy a pre-show dinner style in the Link Centre Reception Hall. Dinner tickets are $25 each and include one free beverage and seating in a reserved section of the Concert Hall for the show. \nThis TMRH will feature Tupelo native author Paige Williams and music by Matt Stansberry & The Romance and bluesman Dexter Allen. The show is hosted by Jim Dees and The Yalobushwhackers. This concert is FREE and open to the public. \nFollowing the radio recording\, Matt Stansberry & The Romance and Dexter Allen will each perform additional brief sets. The Link Centre Concert Hall is located at 1800 West Main Street. \nFor more information call 662-690-4011. \n\n\n			\n				\n			\n			\n				\n			\n			\n				\n			\n			\n				\n			\n			\n				\n			\n		\n\n\nDinner\, 6-7:15PM\nThacker Mountain Show\, 7:30-8:30PM\nSecond Set/After-Party\, 8:45PM-Until… 🙂 \n\n \n\nBuy Tickets HERE!
URL:https://link-centre.org/event/thacker-mountain/
LOCATION:Concert Hall
ATTACH;FMTTYPE=image/jpeg:https://link-centre.org/wp-content/uploads/2019/04/7A295731-2BC2-445B-A24A-E09F38F042CD.jpeg
END:VEVENT
BEGIN:VEVENT
DTSTART;TZID=America/Chicago:20190809T193000
DTEND;TZID=America/Chicago:20190809T213000
DTSTAMP:20260419T191739
CREATED:20190620T160018Z
LAST-MODIFIED:20190620T160058Z
UID:3527-1565379000-1565386200@link-centre.org
SUMMARY:Southern Fried Chickie
DESCRIPTION:Saltillo native Christy McBrayer’s one woman comedy about a prodigal trip from Hollywood back home where she portrays 10 characters of family and friends accompanied by a live band. This is a fundraiser with proceeds going to the Dr. R.B Robison Educational Resource Center to provide educational tutoring and outside resources for Saltillo School Students. Eric Stogner\, Chance Moore and Kathy Brown will give musical accompaniment. \n\nSouthern Fried Chickie \na one-woman play written and performed\nby Christy McBrayer \nFriday\, August 9\, 2019 at 7:30pm \nLink Centre Concert Hall \nTickets:\n$25/advance\n$30/door \nproceeds to benefit the Dr. R.B Robison Educational Resource Center \n\nBuy Ticket HERE.
URL:https://link-centre.org/event/southern-fried-chickie/
LOCATION:Concert Hall
ATTACH;FMTTYPE=image/jpeg:https://link-centre.org/wp-content/uploads/2019/06/60167847_2189014647813254_8542879995456913408_o.jpg
END:VEVENT
BEGIN:VEVENT
DTSTART;TZID=America/Chicago:20190810T193000
DTEND;TZID=America/Chicago:20190810T210000
DTSTAMP:20260419T191739
CREATED:20190401T220130Z
LAST-MODIFIED:20190401T220130Z
UID:3205-1565465400-1565470800@link-centre.org
SUMMARY:West of Shake Rag
DESCRIPTION:West of Shake Rag\n\nAugust 10 @ 7:30 pm – 9:00 pm\n\n\n\nFamily friendly\, live comedy. Bring the whole clan!\nFREE popcorn! (Yeah\, you heard that right. FREE!!!)\nTickets $5 at the door.\nShow starts at 7:30PM!
URL:https://link-centre.org/event/west-of-shake-rag-12/
LOCATION:Black Box Theatre
END:VEVENT
BEGIN:VEVENT
DTSTART;TZID=America/Chicago:20190816T193000
DTEND;TZID=America/Chicago:20190816T213000
DTSTAMP:20260419T191739
CREATED:20190618T170722Z
LAST-MODIFIED:20190620T155039Z
UID:3507-1565983800-1565991000@link-centre.org
SUMMARY:Sessions Open Mic
DESCRIPTION:Sessions Open Mic welcomes all spoken word artists\, singers\, musicians\, comedians…come out and show us your talent! It’s a great night out with friends\, for meeting new people\, or date night. Doors (and open mic list) opens at 7pm\, and show starts at 7:30pm. Admission: $7 at the door.
URL:https://link-centre.org/event/sessions-open-mic-9/
LOCATION:Black Box Theatre
ATTACH;FMTTYPE=image/jpeg:https://link-centre.org/wp-content/uploads/2018/10/open-mic-fb-ad-1920-x-1080.jpg
END:VEVENT
BEGIN:VEVENT
DTSTART;TZID=America/Chicago:20190817T193000
DTEND;TZID=America/Chicago:20190817T220000
DTSTAMP:20260419T191739
CREATED:20180920T020947Z
LAST-MODIFIED:20190813T000706Z
UID:2715-1566070200-1566079200@link-centre.org
SUMMARY:Love Moor (Neo-Soul)
DESCRIPTION:BUY TICKETS HERE!\n\nNeoSoul\nAlternative R&B\nNew Jazz \n\nLove Moor is a powerful NeoSoul artist who builds beautifully crafted\, revealing songs that revolve around themes of sexuality\, nostalgia\, abandonment\, and selflove. Her music is infused with R&B and Hip Hop overtones and often references New Jazz and her island roots. Her freshman album\, Blu Polka Dots\, built her a strong following and her recently released sophomore project\, Simp Girl\, followed up\, building on her acclaim in Birmingham and beyond\, garnering radio play and media coverage nationally and internationally. \nLove Moor has performed in concert in support of such acts as R.LUM.R.\, Amasa Hines and Phangs and has been featured at Secret Stages Festival\, Art On The Rocks and multiple LOBOTOMIX showcases. \n\nAugust 17th\, 2019 at 7:30pm\nLink Centre Concert Hall\n1800 West Main \nTickets:\n$12/advance\n$15/door \n\n \n \n\n  \nBUY TICKETS HERE!
URL:https://link-centre.org/event/love-moor-neo-soul/
LOCATION:Concert Hall
ATTACH;FMTTYPE=image/jpeg:https://link-centre.org/wp-content/uploads/2018/09/595131D2-C09F-4B2F-91A3-C7CBAFA8B808.jpeg
END:VEVENT
BEGIN:VEVENT
DTSTART;TZID=America/Chicago:20190824T100000
DTEND;TZID=America/Chicago:20190824T160000
DTSTAMP:20260419T191739
CREATED:20190620T160414Z
LAST-MODIFIED:20190620T160414Z
UID:3532-1566640800-1566662400@link-centre.org
SUMMARY:Marbling and Mixed Media Workshop
DESCRIPTION:During this five hour indoor/outdoor workshop students will learn marbling techniques with different media and on different surfaces. Then\, students will use those marbled materials to create several pieces of mixed media artwork.\nAll materials included. \nFor ages 13-adult. \n$95 per student \nWe will break for lunch from 12-1pm so that students can have lunch in town on their own. \nTaught by Teaching Artists Amanda Koonlaba and Jenn Hudson. \nRefund Policy: Due to the necessity to purchase materials and prep before the class\, refunds will not be available for this particular workshop. Additionally\, tickets are nontransferrable to another workshop.
URL:https://link-centre.org/event/marbling-and-mixed-media-workshop/
LOCATION:Art Link Studios
ATTACH;FMTTYPE=image/jpeg:https://link-centre.org/wp-content/uploads/2019/06/59608669_2260463277353171_6496876842589356032_n.jpg
END:VEVENT
BEGIN:VEVENT
DTSTART;TZID=America/Chicago:20190830T173000
DTEND;TZID=America/Chicago:20190830T200000
DTSTAMP:20260419T191739
CREATED:20190620T160857Z
LAST-MODIFIED:20190620T160857Z
UID:3540-1567186200-1567195200@link-centre.org
SUMMARY:Kids Night: Yellow Submarine
DESCRIPTION:Kids Night \nTaught by Amanda Koonlaba\, Ed. S. \nWatercolor and Tempera Mixed Media Project on Poster-sized Paper \n$50 includes dinner (pizza and cookies!) \nAugust 30\, 5:30-8:00 \nAges 4+ and must be potty trained \nStudents will draw and paint their own submarine. Teachers will assist as much as necessary in the outlining process as the final step before students leave with the work.
URL:https://link-centre.org/event/kids-night-yellow-submarine/
LOCATION:Art Link Studios
ATTACH;FMTTYPE=image/jpeg:https://link-centre.org/wp-content/uploads/2019/06/60005712_2278807775518721_5832187081090138112_o.jpg
END:VEVENT
END:VCALENDAR