BEGIN:VCALENDAR
VERSION:2.0
PRODID:-//Link Centre - ECPv5.14.2.1//NONSGML v1.0//EN
CALSCALE:GREGORIAN
METHOD:PUBLISH
X-WR-CALNAME:Link Centre
X-ORIGINAL-URL:https://link-centre.org
X-WR-CALDESC:Events for Link Centre
REFRESH-INTERVAL;VALUE=DURATION:PT1H
X-Robots-Tag:noindex
X-PUBLISHED-TTL:PT1H
BEGIN:VTIMEZONE
TZID:America/Chicago
BEGIN:DAYLIGHT
TZOFFSETFROM:-0600
TZOFFSETTO:-0500
TZNAME:CDT
DTSTART:20190310T080000
END:DAYLIGHT
BEGIN:STANDARD
TZOFFSETFROM:-0500
TZOFFSETTO:-0600
TZNAME:CST
DTSTART:20191103T070000
END:STANDARD
END:VTIMEZONE
BEGIN:VEVENT
DTSTART;TZID=America/Chicago:20191012T193000
DTEND;TZID=America/Chicago:20191012T210000
DTSTAMP:20260419T155235
CREATED:20190401T220325Z
LAST-MODIFIED:20190401T220325Z
UID:3209-1570908600-1570914000@link-centre.org
SUMMARY:West of Shake Rag
DESCRIPTION:West of Shake Rag\n\nOctober 12 @ 7:30 pm – 9:00 pm\n\n\n\nFamily friendly\, live comedy. Bring the whole clan!\nFREE popcorn! (Yeah\, you heard that right. FREE!!!)\nTickets $5 at the door.\nShow starts at 7:30PM!
URL:https://link-centre.org/event/west-of-shake-rag-14/
LOCATION:Black Box Theatre
END:VEVENT
BEGIN:VEVENT
DTSTART;TZID=America/Chicago:20191017T193000
DTEND;TZID=America/Chicago:20191017T213000
DTSTAMP:20260419T155235
CREATED:20190820T172818Z
LAST-MODIFIED:20190906T030817Z
UID:3733-1571340600-1571347800@link-centre.org
SUMMARY:Monthly Music Mix: Singer-Songwriter in the Round
DESCRIPTION:Buy Tickets HERE!\n\nSinger-Songwriter in the Round \nfeaturing Grammy-winner Tricia Walker\, along with Nashville-based banjo picker Lockwood Barr\, with Carrie Lynn Stanford and Mattie Stembridge \nThursday\, October 17th\, 2019\n7:30PM\nLink Centre Reception Hall \n\nBuy Tickets HERE!
URL:https://link-centre.org/event/monthly-music-mix-singer-songwriter-in-the-round/
LOCATION:Link Centre\, 1800 Main Street\, Tupelo\, MS\, 38801\, United States
ATTACH;FMTTYPE=image/jpeg:https://link-centre.org/wp-content/uploads/2019/08/MMM-October-2019-flier-female-singer-songwriter-Tricia-Walker-Lockwood-Barr.jpg
END:VEVENT
BEGIN:VEVENT
DTSTART;TZID=America/Chicago:20191018T193000
DTEND;TZID=America/Chicago:20191018T213000
DTSTAMP:20260419T155235
CREATED:20190913T123824Z
LAST-MODIFIED:20190913T124238Z
UID:3800-1571427000-1571434200@link-centre.org
SUMMARY:Sessions Open Mic
DESCRIPTION:Sessions Open Mic welcomes all spoken word artists\, singers\, musicians\, comedians…come out and show us your talent! It’s a great night out with friends\, for meeting new people\, or date night. Doors (and open mic list) opens at 7pm\, and show starts at 7:30pm. Admission: $7 at the door.
URL:https://link-centre.org/event/sessions-open-mic-11/
LOCATION:Black Box Theatre
ATTACH;FMTTYPE=image/jpeg:https://link-centre.org/wp-content/uploads/2019/09/Sessions-open-mic-poster-fall-2019.jpg
END:VEVENT
END:VCALENDAR