BEGIN:VCALENDAR
VERSION:2.0
PRODID:-//Link Centre - ECPv5.14.2.1//NONSGML v1.0//EN
CALSCALE:GREGORIAN
METHOD:PUBLISH
X-WR-CALNAME:Link Centre
X-ORIGINAL-URL:https://link-centre.org
X-WR-CALDESC:Events for Link Centre
REFRESH-INTERVAL;VALUE=DURATION:PT1H
X-Robots-Tag:noindex
X-PUBLISHED-TTL:PT1H
BEGIN:VTIMEZONE
TZID:America/Chicago
BEGIN:DAYLIGHT
TZOFFSETFROM:-0600
TZOFFSETTO:-0500
TZNAME:CDT
DTSTART:20190310T080000
END:DAYLIGHT
BEGIN:STANDARD
TZOFFSETFROM:-0500
TZOFFSETTO:-0600
TZNAME:CST
DTSTART:20191103T070000
END:STANDARD
END:VTIMEZONE
BEGIN:VEVENT
DTSTART;TZID=America/Chicago:20191207T100000
DTEND;TZID=America/Chicago:20191207T160000
DTSTAMP:20260419T122512
CREATED:20190822T203411Z
LAST-MODIFIED:20191102T165358Z
UID:3749-1575712800-1575734400@link-centre.org
SUMMARY:Holiday Market 2019
DESCRIPTION:Link Centre Holiday Market 2019\nFeaturing Community Entrepreneurs & Craftspeople\nBring the kids to meet Santa at the Holiday Market 2019! \nFREE Admission.\nArts\, crafts\, holiday gifts\, children’s art activity\, Silly Santa photo op\, food & fun! \n\nVENDOR INFO:\n\n\n\n\n\nLoad-in is at 8:30am on Saturday\, December 7; all vendors should be set up no later than 9:45am.\nEnter on the Douglas St. side of Link Centre; look for Vendor Load In signage.\nTables will be provided by Link Centre. If you have any special needs or requests\, please note this information on your application in the space provided.\nYour signage should fit WITHIN your 4ft or 8ft table space.\nLink Centre Table additions: Your product may be accompanied with a small table tent no larger than 8×11.5. All items should be priced with tag or sticker\, and include applicable sales tax.\nVendors are responsible for sales transactions (cash and cards). If you need help with setting yourself up to receive credit/debit card payments\, let us know! Please bring appropriate cash/change.\nVendors must provide their own table covering and display elements (if applicable).\nProducts not listed on your application will not be allowed.\nVendors must monitor their own tables at all times.\nNo electricity access at tables.\nNo wall-hanging access.\nIf you have special needs not addressed here\, please send questions to linkcentretup@gmail.com.\n\n\n\nIMPORTANT: Accepted vendors will be notified by email on November 14th.  Once notified of acceptance\, you will receive instructions for how to either 1) pay online\, or 2) pay in person at the Link Centre Main Office. All vendors accepted to the Holiday Market must confirm participation and submit fees no later than November 21st. Thank you! \n  \n\n← Back Thank you for your response. ✨\n\n\n					\n						\n							\n							\n						\n						\n						\n						\n						\n							\n								\n									\n										\n										\n									\n									\n										\n										\n									\n								\n							\n						\n						\n							\n								\n									\n									\n										\n									\n									\n									\n								\n							\n						\n					\n				\n\n\n\n1. Name(required)\n\n \n			\n				\n					\n						\n						\n						\n					\n				\n				\n			 \n	\n\n\n2. Phone Number(required)\n\n \n			\n				\n					\n						\n						\n						\n					\n				\n				\n			 \n	\n\n\n3. Email(required)\n\n \n			\n				\n					\n						\n						\n						\n					\n				\n				\n			 \n	\n\n\n4. Website\n\n \n			\n				\n					\n						\n						\n						\n					\n				\n				\n			 \n	\n\n\n5. May we add you to the Link Centre Mailing list?(required)\n Yes  No \n			\n				\n					\n						\n						\n						\n					\n				\n				\n				\n\n\n6. In what size table space are you interested?(required)\n 4' Shared ($20)  8' Solo ($35)  Link Centre Table (15% of your total sales will go to Link Centre - no vending flat fee.) \n			\n				\n					\n						\n						\n						\n					\n				\n				\n				\n\n\n7. Do you intend to share space with someone? (Meaning: will there be multiple item types in your space? If so\, please include in item list below.)(required)\n Yes  No \n			\n				\n					\n						\n						\n						\n					\n				\n				\n				\n\n\n8. Tell us about ALL types of items you would like to sell. (Any item type NOT listed here may not be approved for sale.)(required)\n\n \n			\n				\n					\n						\n						\n						\n					\n				\n				\n			 \n	\n\n\n9. Are your products made by you/your company? (Priority selection will be made to hand-made/locally produced products\, but other products will not be excluded from selection.)(required)\n\n \n			\n				\n					\n						\n						\n						\n					\n				\n				\n			 \n	\n\n\n10. Any special needs or requests?\n\n \n			\n				\n					\n						\n						\n						\n					\n				\n				\n			 \n	\n	\n\n				\n					\n				\n						Submit		\n		\n		\n	 \nΔ \n\n\n\nIf you have photos of your products\, please email to: linkcentretup@gmail.com.
URL:https://link-centre.org/event/holiday-market-2019/
LOCATION:Reception Hall
ATTACH;FMTTYPE=image/png:https://link-centre.org/wp-content/uploads/2019/08/Screenshot-2019-08-22-15.35.22.png
END:VEVENT
BEGIN:VEVENT
DTSTART;TZID=America/Chicago:20191214T193000
DTEND;TZID=America/Chicago:20191214T210000
DTSTAMP:20260419T122512
CREATED:20190401T220555Z
LAST-MODIFIED:20190401T220555Z
UID:3213-1576351800-1576357200@link-centre.org
SUMMARY:West of Shake Rag
DESCRIPTION:West of Shake Rag\n\nDecember 14 @ 7:30 pm – 9:00 pm\n\n\n\nFamily friendly\, live comedy. Bring the whole clan!\nFREE popcorn! (Yeah\, you heard that right. FREE!!!)\nTickets $5 at the door.\nShow starts at 7:30PM!
URL:https://link-centre.org/event/west-of-shake-rag-16/
LOCATION:Black Box Theatre
END:VEVENT
END:VCALENDAR