BEGIN:VCALENDAR
VERSION:2.0
PRODID:-//Link Centre - ECPv5.14.2.1//NONSGML v1.0//EN
CALSCALE:GREGORIAN
METHOD:PUBLISH
X-WR-CALNAME:Link Centre
X-ORIGINAL-URL:https://link-centre.org
X-WR-CALDESC:Events for Link Centre
REFRESH-INTERVAL;VALUE=DURATION:PT1H
X-Robots-Tag:noindex
X-PUBLISHED-TTL:PT1H
BEGIN:VTIMEZONE
TZID:America/Chicago
BEGIN:DAYLIGHT
TZOFFSETFROM:-0600
TZOFFSETTO:-0500
TZNAME:CDT
DTSTART:20200308T080000
END:DAYLIGHT
BEGIN:STANDARD
TZOFFSETFROM:-0500
TZOFFSETTO:-0600
TZNAME:CST
DTSTART:20201101T070000
END:STANDARD
END:VTIMEZONE
BEGIN:VEVENT
DTSTART;TZID=America/Chicago:20200111T193000
DTEND;TZID=America/Chicago:20200111T213000
DTSTAMP:20260419T103255
CREATED:20190927T170929Z
LAST-MODIFIED:20200108T191733Z
UID:3855-1578771000-1578778200@link-centre.org
SUMMARY:Monthly Music Mix - A Blues Round Robin
DESCRIPTION:Buy your tickets HERE!\n\nSam Mosley\, Eden Brent\, Rev. Robert Jones Jr.\, Terry “Harmonica” Bean. \nSaturday\, January 11th\, 2020\n7:30PM\nLink Centre Reception Hall\nTicket $12/Advance\, $15/Door \n\nBuy your tickets HERE!
URL:https://link-centre.org/event/monthly-music-mix-a-blues-round-robin/
LOCATION:Reception Hall
ATTACH;FMTTYPE=image/jpeg:https://link-centre.org/wp-content/uploads/2020/01/MMM-Updated-Blues-Cafe-poster-January-2020.jpg
END:VEVENT
BEGIN:VEVENT
DTSTART;TZID=America/Chicago:20200112T123000
DTEND;TZID=America/Chicago:20200112T220000
DTSTAMP:20260419T103255
CREATED:20200108T192502Z
LAST-MODIFIED:20200108T192502Z
UID:4230-1578832200-1578866400@link-centre.org
SUMMARY:Sunday Showdown
DESCRIPTION:
URL:https://link-centre.org/event/sunday-showdown/
LOCATION:Black Box Theatre
ATTACH;FMTTYPE=image/jpeg:https://link-centre.org/wp-content/uploads/2020/01/82444802_2517871228457444_2067405318500909056_o.jpg
END:VEVENT
BEGIN:VEVENT
DTSTART;TZID=America/Chicago:20200131T193000
DTEND;TZID=America/Chicago:20200131T213000
DTSTAMP:20260419T103255
CREATED:20191220T133019Z
LAST-MODIFIED:20200108T190404Z
UID:4155-1580499000-1580506200@link-centre.org
SUMMARY:Sessions Open Mic
DESCRIPTION:Friday\, January 31\, 2020\n7:30PM \nSessions Open Mic welcomes all spoken word artists\, singers\, musicians\, comedians…come out and show us your talent! It’s a great night out with friends\, for meeting new people\, or date night. Doors (and open mic list) open at 7pm\, and show starts at 7:30pm. \nAdmission: $7.
URL:https://link-centre.org/event/sessions-open-mic-13/
LOCATION:Black Box Theatre
ATTACH;FMTTYPE=image/jpeg:https://link-centre.org/wp-content/uploads/2020/01/Sessions-poster-January-thorugh-April-2020.jpg
END:VEVENT
END:VCALENDAR